BEGIN:VCALENDAR
VERSION:2.0
PRODID:-//https://www.havasurealtors.com//NONSGML kigkonsult.se iCalcreator 2.41.71//
CALSCALE:GREGORIAN
METHOD:PUBLISH
UID:36303437-6134-4332-b030-303565653232
X-WR-CALNAME:JCal Pro Calendar
X-WR-CALDESC:Your online events calendar
X-WR-TIMEZONE:America/Phoenix
BEGIN:VTIMEZONE
TZID:America/Phoenix
BEGIN:STANDARD
TZNAME:MST
DTSTART:20240721T121330
TZOFFSETFROM:+0000
TZOFFSETTO:-0700
END:STANDARD
END:VTIMEZONE
BEGIN:VEVENT
UID:20191212T113000MST-95156eHTRM@http://lhsuiws.rapams.com/
DTSTAMP:20260422T121330Z
CATEGORIES:Events
DTSTART;TZID=America/Phoenix:20201217T113000
DTEND;TZID=America/Phoenix:20201217T130000
SUMMARY:WCR Luncheon
URL:https://www.havasurealtors.com/calendar-menu/187-public-events-calendar
 -category/1661-wcr-luncheon.html
END:VEVENT
END:VCALENDAR
