BEGIN:VCALENDAR
VERSION:2.0
PRODID:-//https://www.havasurealtors.com//NONSGML kigkonsult.se iCalcreator 2.41.71//
CALSCALE:GREGORIAN
METHOD:PUBLISH
UID:30653165-6465-4431-a539-316333303434
X-WR-CALNAME:JCal Pro Calendar
X-WR-CALDESC:Your online events calendar
X-WR-TIMEZONE:America/Phoenix
BEGIN:VTIMEZONE
TZID:America/Phoenix
BEGIN:STANDARD
TZNAME:MST
DTSTART:20240718T195342
TZOFFSETFROM:+0000
TZOFFSETTO:-0700
END:STANDARD
END:VTIMEZONE
BEGIN:VEVENT
UID:20240818T140000UTC-42742FB96H@https://havasurealtors.com/
DTSTAMP:20260419T195342Z
CATEGORIES:Public Meetings
DTSTART;TZID=America/Phoenix:20240826T080000
DTEND;TZID=America/Phoenix:20240827T080000
RRULE:FREQ=DAILY;UNTIL=20240820T070000Z;INTERVAL=1
SUMMARY:NAR Leadership Summit - Chicago\, IL
URL:https://www.havasurealtors.com/calendar-menu/189-meetings-calendar-cate
 gory/190-public-meetings-calendar-category/4046-nar-leadership-summit-chic
 ago-il.html
END:VEVENT
END:VCALENDAR
