BEGIN:VCALENDAR
VERSION:2.0
PRODID:-//https://www.havasurealtors.com//NONSGML kigkonsult.se iCalcreator 2.41.71//
CALSCALE:GREGORIAN
METHOD:PUBLISH
UID:38623961-3730-4632-b165-333335313339
X-WR-CALNAME:JCal Pro Calendar
X-WR-CALDESC:Your online events calendar
X-WR-TIMEZONE:America/Phoenix
BEGIN:VTIMEZONE
TZID:America/Phoenix
BEGIN:STANDARD
TZNAME:MST
DTSTART:20240723T023313
TZOFFSETFROM:+0000
TZOFFSETTO:-0700
END:STANDARD
END:VTIMEZONE
BEGIN:VEVENT
UID:20250117T090000UTC-7417iZASS6@https://havasurealtors.com/
DTSTAMP:20260424T023313Z
CATEGORIES:Public Meetings
DTSTART;TZID=America/Phoenix:20250516T090000
DTEND;TZID=America/Phoenix:20250516T110000
SUMMARY:General Membership Meeting ONLY
URL:https://www.havasurealtors.com/calendar-menu/189-meetings-calendar-cate
 gory/190-public-meetings-calendar-category/4716-general-membership-2.html
END:VEVENT
END:VCALENDAR
