BEGIN:VCALENDAR
VERSION:2.0
PRODID:-//https://www.havasurealtors.com//NONSGML kigkonsult.se iCalcreator 2.41.71//
CALSCALE:GREGORIAN
METHOD:PUBLISH
UID:63373834-6133-4562-b437-346566313266
X-WR-CALNAME:JCal Pro Calendar
X-WR-CALDESC:Your online events calendar
X-WR-TIMEZONE:America/Phoenix
BEGIN:VTIMEZONE
TZID:America/Phoenix
BEGIN:STANDARD
TZNAME:MST
DTSTART:20240718T180348
TZOFFSETFROM:+0000
TZOFFSETTO:-0700
END:STANDARD
END:VTIMEZONE
BEGIN:VEVENT
UID:20210106T080000MST-6190VOUGtZ@https://lhsuiws.rapams.com/
DTSTAMP:20260419T180348Z
CATEGORIES:MLS Tour Meetings
DESCRIPTION:<p> We have 1 home on tour.</p>\n<p><a class='doclink' href='in
 dex.php?option=com_docman&amp\;view=document&amp\;alias=141-tour-list-06-1
 6-21&amp\;category_slug=mls&amp\;Itemid=876' target='_blank' rel='noopener
  noreferrer'>Tour list 06 16 21</a></p>\n<p> </p>\n<p> </p>
DTSTART;TZID=America/Phoenix:20210616T080000
DTEND;TZID=America/Phoenix:20210616T090000
SUMMARY:MLS Tour - All Area's
URL:https://www.havasurealtors.com/calendar-menu/189-meetings-calendar-cate
 gory/193-mls-tour-meetings-calendar-category/2589-mls-tour-all-area-s.html
X-ALT-DESC;FMTTYPE=TEXT/HTML:<p> We have 1 home on tour.</p>\n<p><a class='
 doclink' href='index.php?option=com_docman&amp\;view=document&amp\;alias=1
 41-tour-list-06-16-21&amp\;category_slug=mls&amp\;Itemid=876' target='_bla
 nk' rel='noopener noreferrer'>Tour list 06 16 21</a></p>\n<p> </p>\n<p> </
 p>
END:VEVENT
END:VCALENDAR
