BEGIN:VCALENDAR
VERSION:2.0
PRODID:-//https://www.havasurealtors.com//NONSGML kigkonsult.se iCalcreator 2.41.71//
CALSCALE:GREGORIAN
METHOD:PUBLISH
UID:65366231-3438-4132-a265-353038623931
X-WR-CALNAME:JCal Pro Calendar
X-WR-CALDESC:Your online events calendar
X-WR-TIMEZONE:America/Phoenix
BEGIN:VTIMEZONE
TZID:America/Phoenix
BEGIN:STANDARD
TZNAME:MST
DTSTART:20240718T160937
TZOFFSETFROM:+0000
TZOFFSETTO:-0700
END:STANDARD
END:VTIMEZONE
BEGIN:VEVENT
UID:20250423T081500UTC-6851dAU3We@https://havasurealtors.com/
DTSTAMP:20260419T160937Z
CATEGORIES:MLS Tour Meetings
DTSTART;TZID=America/Phoenix:20251231T081500
DTEND;TZID=America/Phoenix:20251231T084500
SUMMARY:NO MLS TOUR
URL:https://www.havasurealtors.com/calendar-menu/189-meetings-calendar-cate
 gory/193-mls-tour-meetings-calendar-category/4817-mls-tour-central-area.ht
 ml
END:VEVENT
END:VCALENDAR
