BEGIN:VCALENDAR
VERSION:2.0
PRODID:-//https://www.havasurealtors.com//NONSGML kigkonsult.se iCalcreator 2.41.71//
CALSCALE:GREGORIAN
METHOD:PUBLISH
UID:62366538-3539-4631-b163-366366363763
X-WR-CALNAME:JCal Pro Calendar
X-WR-CALDESC:Your online events calendar
X-WR-TIMEZONE:America/Phoenix
BEGIN:VTIMEZONE
TZID:America/Phoenix
BEGIN:STANDARD
TZNAME:MST
DTSTART:20240721T190318
TZOFFSETFROM:+0000
TZOFFSETTO:-0700
END:STANDARD
END:VTIMEZONE
BEGIN:VEVENT
UID:20210101T090000MST-6862bmcTau@https://lhsuiws.rapams.com/
DTSTAMP:20260422T190318Z
CATEGORIES:Holidays
DTSTART;TZID=America/Phoenix:20210101T000000
DTEND;TZID=America/Phoenix:20210101T235959
SUMMARY:Association Office Closed - New Years
URL:https://www.havasurealtors.com/calendar-menu/196-holidays-calendar-cate
 gory/2348-association-office-closed-new-years.html
END:VEVENT
END:VCALENDAR
