BEGIN:VCALENDAR
VERSION:2.0
PRODID:-//https://www.havasurealtors.com//NONSGML kigkonsult.se iCalcreator 2.41.71//
CALSCALE:GREGORIAN
METHOD:PUBLISH
UID:36333135-3762-4462-b738-376431353937
X-WR-CALNAME:JCal Pro Calendar
X-WR-CALDESC:Your online events calendar
X-WR-TIMEZONE:America/Phoenix
BEGIN:VTIMEZONE
TZID:America/Phoenix
BEGIN:STANDARD
TZNAME:MST
DTSTART:20240719T100804
TZOFFSETFROM:+0000
TZOFFSETTO:-0700
END:STANDARD
END:VTIMEZONE
BEGIN:VEVENT
UID:20210118T080000UTC-6837vxLZfX@https://havasurealtors.com/
DTSTAMP:20260420T100804Z
CATEGORIES:Holidays
DTSTART;TZID=America/Phoenix:20240115T000000
DTEND;TZID=America/Phoenix:20240115T235959
SUMMARY:Association Office Closed - Martin Luther King Jr. Day/Civil Rights
  Day
URL:https://www.havasurealtors.com/calendar-menu/196-holidays-calendar-cate
 gory/4282-association-office-closed-martin-luther-king-jr-day-civil-rights
 -day.html
END:VEVENT
END:VCALENDAR
