BEGIN:VCALENDAR
VERSION:2.0
PRODID:-//https://www.havasurealtors.com//NONSGML kigkonsult.se iCalcreator 2.41.71//
CALSCALE:GREGORIAN
METHOD:PUBLISH
UID:64363439-3665-4539-a564-323765646432
X-WR-CALNAME:JCal Pro Calendar
X-WR-CALDESC:Your online events calendar
X-WR-TIMEZONE:America/Phoenix
BEGIN:VTIMEZONE
TZID:America/Phoenix
BEGIN:STANDARD
TZNAME:MST
DTSTART:20240720T213318
TZOFFSETFROM:+0000
TZOFFSETTO:-0700
END:STANDARD
END:VTIMEZONE
BEGIN:VEVENT
UID:20251219T170000UTC-7403oVm1ir@https://havasurealtors.com/
DTSTAMP:20260421T213318Z
CATEGORIES:Rentals
DTSTART;TZID=America/Phoenix:20251219T170000
DTEND;TZID=America/Phoenix:20251220T235900
SUMMARY:Rental ( Lotzoj)
URL:https://www.havasurealtors.com/calendar-menu/258-rentals/4929-rental-lo
 tzoj.html
END:VEVENT
END:VCALENDAR
