BEGIN:VCALENDAR
VERSION:2.0
PRODID:-//https://www.havasurealtors.com//NONSGML kigkonsult.se iCalcreator 2.41.71//
CALSCALE:GREGORIAN
METHOD:PUBLISH
UID:61373236-3937-4432-b934-636261366533
X-WR-CALNAME:JCal Pro Calendar
X-WR-CALDESC:Your online events calendar
X-WR-TIMEZONE:America/Phoenix
BEGIN:VTIMEZONE
TZID:America/Phoenix
BEGIN:STANDARD
TZNAME:MST
DTSTART:20240718T160529
TZOFFSETFROM:+0000
TZOFFSETTO:-0700
END:STANDARD
END:VTIMEZONE
BEGIN:VEVENT
UID:20240123T124500UTC-11584uN48w@https://havasurealtors.com/
DTSTAMP:20260419T160529Z
CATEGORIES:Credited Classes
DESCRIPTION:<p>Date: Tuesday\, January 23rd\, 2024</p>\n<p>Time: 12:45pm - 
 4:00pm</p>\n<p>C.E. Credits: 3 Commissioner's Standards | Also meets NAR C
 OE requirement</p>\n<p>Cost: REALTOR® Member - $20 Early / $40 Late | Non-
 REALTOR® Member - $40 Early | $60 Late</p>\n<p>Type: CRPM</p>\n<p>Instruct
 or: Mike Tiers</p>\n<p>Description:&nbsp\;</p>\n<p><strong>Early registrat
 ion thru 1/15 | Late registration after 1/15</strong></p>\n<p><strong>Regi
 stration closes by midnight on 1/19</strong></p>\n<p>Do you think the NAR 
 Code of Ethics doesn’t apply to property management? You’d be wrong. The N
 AR Code of Ethics applies to your day to day activity in countless ways an
 d violating it can be costly.</p>\n<p><strong><em>ONLY 50 SEATS AVAILABLE<
 br /></em></strong></p>\n<p>Designation Information</p>\n<p><strong>(Fulfi
 lls the CODE OF ETHICS course for CRPM)</strong></p>\n<p><strong>CERTIFIED
  RESIDENTIAL PROPERTY MANAGER:</strong>&nbsp\;Arizona REALTORS® certificat
 ion program is dedicated to property management and offers classes that yo
 u can use for your real estate license renewal. This program was designed 
 to hone your knowledge and skills in topics that relate to your day to day
  business as a property manager. The curriculum was developed in concert w
 ith property management attorneys and longtime property management practit
 ioners.&nbsp\;<strong>To learn more\, visit:</strong>&nbsp\;www.aaronline.
 com/increase-knowledge.</p>\n<p><em><strong>*This certification program is
  not affiliated with or endorsed by the National Association of REALTORS®<
 /strong></em></p>\n<p><a href='https://www.aaronline.com/calendar/view-eve
 nt/?id=1850' class='wf_file'>REGISTER HERE!!</a></p>
DTSTART;TZID=America/Phoenix:20240123T124500
DTEND;TZID=America/Phoenix:20240123T160000
SUMMARY:CRPM: PROPERTY MANAGEMENT AND THE NAR CODE OF ETHICS (CE: 3 Commiss
 ioner's Standards / Also meets NAR COE requirement)(Zoom DTM)
URL:https://www.havasurealtors.com/calendar-menu/259-education-classes/184-
 credited-classes-calendar-category/4166-crpm-property-management-and-the-n
 ar-code-of-ethics-ce-3-commissioners-standards-also-meets-nar-coe-requirem
 ent-zoom-dtm.html
X-ALT-DESC;FMTTYPE=TEXT/HTML:<p>Date: Tuesday\, January 23rd\, 2024</p>\n<p
 >Time: 12:45pm - 4:00pm</p>\n<p>C.E. Credits: 3 Commissioner's Standards |
  Also meets NAR COE requirement</p>\n<p>Cost: REALTOR® Member - $20 Early 
 / $40 Late | Non-REALTOR® Member - $40 Early | $60 Late</p>\n<p>Type: CRPM
 </p>\n<p>Instructor: Mike Tiers</p>\n<p>Description:&nbsp\;</p>\n<p><stron
 g>Early registration thru 1/15 | Late registration after 1/15</strong></p>
 \n<p><strong>Registration closes by midnight on 1/19</strong></p>\n<p>Do y
 ou think the NAR Code of Ethics doesn’t apply to property management? You’
 d be wrong. The NAR Code of Ethics applies to your day to day activity in 
 countless ways and violating it can be costly.</p>\n<p><strong><em>ONLY 50
  SEATS AVAILABLE<br /></em></strong></p>\n<p>Designation Information</p>\n
 <p><strong>(Fulfills the CODE OF ETHICS course for CRPM)</strong></p>\n<p>
 <strong>CERTIFIED RESIDENTIAL PROPERTY MANAGER:</strong>&nbsp\;Arizona REA
 LTORS® certification program is dedicated to property management and offer
 s classes that you can use for your real estate license renewal. This prog
 ram was designed to hone your knowledge and skills in topics that relate t
 o your day to day business as a property manager. The curriculum was devel
 oped in concert with property management attorneys and longtime property m
 anagement practitioners.&nbsp\;<strong>To learn more\, visit:</strong>&nbs
 p\;www.aaronline.com/increase-knowledge.</p>\n<p><em><strong>*This certifi
 cation program is not affiliated with or endorsed by the National Associat
 ion of REALTORS®</strong></em></p>\n<p><a href='https://www.aaronline.com/
 calendar/view-event/?id=1850' class='wf_file'>REGISTER HERE!!</a></p>
END:VEVENT
END:VCALENDAR
