BEGIN:VCALENDAR
VERSION:2.0
PRODID:-//https://www.havasurealtors.com//NONSGML kigkonsult.se iCalcreator 2.41.71//
CALSCALE:GREGORIAN
METHOD:PUBLISH
UID:37613138-3335-4735-a632-623665383064
X-WR-CALNAME:JCal Pro Calendar
X-WR-CALDESC:Your online events calendar
X-WR-TIMEZONE:America/Phoenix
BEGIN:VTIMEZONE
TZID:America/Phoenix
BEGIN:STANDARD
TZNAME:MST
DTSTART:20240719T043642
TZOFFSETFROM:+0000
TZOFFSETTO:-0700
END:STANDARD
END:VTIMEZONE
BEGIN:VEVENT
UID:20240111T123000UTC-15634D9L4w@https://havasurealtors.com/
DTSTAMP:20260420T043642Z
CATEGORIES:Non-credited Classes
DESCRIPTION:<p>Date: Thursday\, January 11th\, 2024</p>\n<p>Time: 12:30pm -
  1:30pm</p>\n<p>C.E. Credits: NONE</p>\n<p>Cost: $Complimentary</p>\n<p>Ty
 pe: AAR Events</p>\n<p>Instructor: Guest Speakers: Denise Holliday\, Esq. 
 | Steve Urie</p>\n<p>Description:&nbsp\;</p>\n<h3>If you are engaging in p
 roperty management\, this is the forum for you!</h3>\n<p>Join Denise Holli
 day\, Esq. and Steve Urie\, for this month's forum offering the opportunit
 y to discuss hot topics and issues that are most important and relevant to
  you in property management.</p>\n<p><em><strong>Together\, we will build 
 a stronger network of property managers throughout Arizona!</strong></em><
 /p>\n<p><a href='https://www.aaronline.com/calendar/view-event/?id=1845' c
 lass='wf_file'>REGISTER HERE!!</a></p>
DTSTART;TZID=America/Phoenix:20240111T123000
DTEND;TZID=America/Phoenix:20240111T133000
SUMMARY:PROPERTY MANAGEMENT FORUM (CE: None) (Zoom DTM)
URL:https://www.havasurealtors.com/calendar-menu/259-education-classes/185-
 non-credited-classes-calendar-category/4161-property-management-forum-ce-n
 one-zoom-dtm.html
X-ALT-DESC;FMTTYPE=TEXT/HTML:<p>Date: Thursday\, January 11th\, 2024</p>\n<
 p>Time: 12:30pm - 1:30pm</p>\n<p>C.E. Credits: NONE</p>\n<p>Cost: $Complim
 entary</p>\n<p>Type: AAR Events</p>\n<p>Instructor: Guest Speakers: Denise
  Holliday\, Esq. | Steve Urie</p>\n<p>Description:&nbsp\;</p>\n<h3>If you 
 are engaging in property management\, this is the forum for you!</h3>\n<p>
 Join Denise Holliday\, Esq. and Steve Urie\, for this month's forum offeri
 ng the opportunity to discuss hot topics and issues that are most importan
 t and relevant to you in property management.</p>\n<p><em><strong>Together
 \, we will build a stronger network of property managers throughout Arizon
 a!</strong></em></p>\n<p><a href='https://www.aaronline.com/calendar/view-
 event/?id=1845' class='wf_file'>REGISTER HERE!!</a></p>
END:VEVENT
END:VCALENDAR
