BEGIN:VCALENDAR
VERSION:2.0
PRODID:-//https://www.havasurealtors.com//NONSGML kigkonsult.se iCalcreator 2.41.71//
CALSCALE:GREGORIAN
METHOD:PUBLISH
UID:30343766-3861-4632-b463-393239626536
X-WR-CALNAME:JCal Pro Calendar
X-WR-CALDESC:Your online events calendar
X-WR-TIMEZONE:America/Phoenix
BEGIN:VTIMEZONE
TZID:America/Phoenix
BEGIN:STANDARD
TZNAME:MST
DTSTART:20240724T020456
TZOFFSETFROM:+0000
TZOFFSETTO:-0700
END:STANDARD
END:VTIMEZONE
BEGIN:VEVENT
UID:20240103T081500UTC-7216GAvZcb@https://havasurealtors.com/
DTSTAMP:20260425T020456Z
CATEGORIES:Orientation Classes
DTSTART;TZID=America/Phoenix:20240103T081500
DTEND;TZID=America/Phoenix:20240103T120000
RRULE:FREQ=MONTHLY;UNTIL=20241231T070000Z;INTERVAL=2;BYDAY=WE;BYSETPOS=1
SUMMARY:New Member Orientation & Tour
URL:https://www.havasurealtors.com/calendar-menu/259-education-classes/257-
 orientation-classes/4050-new-member-orientation-tour.html
END:VEVENT
END:VCALENDAR
