BEGIN:VCALENDAR
VERSION:2.0
PRODID:-//https://www.havasurealtors.com//NONSGML kigkonsult.se iCalcreator 2.41.71//
CALSCALE:GREGORIAN
METHOD:PUBLISH
UID:64313962-6434-4436-a661-613434326534
X-WR-CALNAME:JCal Pro Calendar
X-WR-CALDESC:Your online events calendar
X-WR-TIMEZONE:America/Phoenix
BEGIN:VTIMEZONE
TZID:America/Phoenix
BEGIN:STANDARD
TZNAME:MST
DTSTART:20240721T004815
TZOFFSETFROM:+0000
TZOFFSETTO:-0700
END:STANDARD
END:VTIMEZONE
BEGIN:VEVENT
UID:20200806T090000MST-9279708cmL@https://lhsuiws.rapams.com/
DTSTAMP:20260422T004815Z
CATEGORIES:Orientation Classes
DESCRIPTION:<p>Please check with the Association Office to find out if this
  class is Zoom or in person. </p>
DTSTART;TZID=America/Phoenix:20211007T090000
DTEND;TZID=America/Phoenix:20211007T120000
SUMMARY:FlexMLS Training for New Members 2021
URL:https://www.havasurealtors.com/calendar-menu/259-education-classes/257-
 orientation-classes/2633-flexmls-training-for-new-members-2.html
X-ALT-DESC;FMTTYPE=TEXT/HTML:<p>Please check with the Association Office to
  find out if this class is Zoom or in person. </p>
END:VEVENT
BEGIN:VEVENT
UID:20211007T160000MST-5622S4mnf2@https://lhsuiws.rapams.com/
DTSTAMP:20260422T004815Z
CATEGORIES:Events
DTSTART;TZID=America/Phoenix:20211007T160000
DTEND;TZID=America/Phoenix:20211007T200000
SUMMARY:REALTOR® Appreciation Event
URL:https://www.havasurealtors.com/calendar-menu/187-public-events-calendar
 -category/2743-realtor-appreciation-event.html
END:VEVENT
END:VCALENDAR
