BEGIN:VCALENDAR
VERSION:2.0
PRODID:-//https://www.havasurealtors.com//NONSGML kigkonsult.se iCalcreator 2.41.71//
CALSCALE:GREGORIAN
METHOD:PUBLISH
UID:30323963-3662-4836-b835-666635653332
X-WR-CALNAME:JCal Pro Calendar
X-WR-CALDESC:Your online events calendar
X-WR-TIMEZONE:America/Phoenix
BEGIN:VTIMEZONE
TZID:America/Phoenix
BEGIN:STANDARD
TZNAME:MST
DTSTART:20240718T144256
TZOFFSETFROM:+0000
TZOFFSETTO:-0700
END:STANDARD
END:VTIMEZONE
BEGIN:VEVENT
UID:20211228T080000MST-8432rtVR3Z@https://lhsuiws.rapams.com/
DTSTAMP:20260419T144256Z
CATEGORIES:MLS Tour Meetings
DTSTART;TZID=America/Phoenix:20211229T080000
DTEND;TZID=America/Phoenix:20211229T090000
SUMMARY:Cancelled - MLS Tour - All Area's
URL:https://www.havasurealtors.com/calendar-menu/189-meetings-calendar-cate
 gory/193-mls-tour-meetings-calendar-category/2928-cancelled-mls-tour-all-a
 rea-s.html
END:VEVENT
END:VCALENDAR
