BEGIN:VCALENDAR
VERSION:2.0
PRODID:-//https://www.havasurealtors.com//NONSGML kigkonsult.se iCalcreator 2.41.71//
CALSCALE:GREGORIAN
METHOD:PUBLISH
UID:65303831-6462-4365-a163-613539353630
X-WR-CALNAME:JCal Pro Calendar
X-WR-CALDESC:Your online events calendar
X-WR-TIMEZONE:America/Phoenix
BEGIN:VTIMEZONE
TZID:America/Phoenix
BEGIN:STANDARD
TZNAME:MST
DTSTART:20240724T221721
TZOFFSETFROM:+0000
TZOFFSETTO:-0700
END:STANDARD
END:VTIMEZONE
BEGIN:VEVENT
UID:20221226T120000MST-77243KAJXD@https://lhsuiws.rapams.com/
DTSTAMP:20260425T221721Z
CATEGORIES:Holidays
DTSTART;TZID=America/Phoenix:20221223T120000
DTEND;TZID=America/Phoenix:20221223T170000
SUMMARY:Association Office Closed - Christmas Observed
URL:https://www.havasurealtors.com/calendar-menu/196-holidays-calendar-cate
 gory/3081-association-office-closed-christmas-observed-2.html
END:VEVENT
END:VCALENDAR
