BEGIN:VCALENDAR
VERSION:2.0
PRODID:-//https://www.havasurealtors.com//NONSGML kigkonsult.se iCalcreator 2.41.71//
CALSCALE:GREGORIAN
METHOD:PUBLISH
UID:35616564-6363-4632-b566-386138313434
X-WR-CALNAME:JCal Pro Calendar
X-WR-CALDESC:Your online events calendar
X-WR-TIMEZONE:America/Phoenix
BEGIN:VTIMEZONE
TZID:America/Phoenix
BEGIN:STANDARD
TZNAME:MST
DTSTART:20240724T004324
TZOFFSETFROM:+0000
TZOFFSETTO:-0700
END:STANDARD
END:VTIMEZONE
BEGIN:VEVENT
UID:20240516T080000UTC-1031kDN5M1@https://havasurealtors.com/
DTSTAMP:20260425T004324Z
CATEGORIES:Rentals
DTSTART;TZID=America/Phoenix:20240516T080000
DTEND;TZID=America/Phoenix:20240519T160000
SUMMARY:Rental (WCR Fashion SHow)
URL:https://www.havasurealtors.com/calendar-menu/258-rentals/4345-rental-wc
 r-fashion-show.html
END:VEVENT
END:VCALENDAR
