BEGIN:VCALENDAR
VERSION:2.0
PRODID:-//https://www.havasurealtors.com//NONSGML kigkonsult.se iCalcreator 2.41.71//
CALSCALE:GREGORIAN
METHOD:PUBLISH
UID:37393533-6133-4439-a164-623064346131
X-WR-CALNAME:JCal Pro Calendar
X-WR-CALDESC:Your online events calendar
X-WR-TIMEZONE:America/Phoenix
BEGIN:VTIMEZONE
TZID:America/Phoenix
BEGIN:STANDARD
TZNAME:MST
DTSTART:20240723T160906
TZOFFSETFROM:+0000
TZOFFSETTO:-0700
END:STANDARD
END:VTIMEZONE
BEGIN:VEVENT
UID:20240102T100000UTC-1539AuOsUl@https://havasurealtors.com/
DTSTAMP:20260424T160906Z
CATEGORIES:MLS Committee
DTSTART;TZID=America/Phoenix:20240102T100000
DTEND;TZID=America/Phoenix:20240102T110000
RRULE:FREQ=MONTHLY;COUNT=12;INTERVAL=1;BYDAY=TU;BYSETPOS=1
SUMMARY:MLS Committee Meeting
URL:https://www.havasurealtors.com/calendar-menu/189-meetings-calendar-cate
 gory/194-committee-meetings-calendar-cateogory/271-multiple-listing-servic
 e/4236-mls-committee-meeting.html
END:VEVENT
END:VCALENDAR
