BEGIN:VCALENDAR
VERSION:2.0
PRODID:-//https://www.havasurealtors.com//NONSGML kigkonsult.se iCalcreator 2.41.71//
CALSCALE:GREGORIAN
METHOD:PUBLISH
UID:64643362-3264-4034-a161-353236336362
X-WR-CALNAME:JCal Pro Calendar
X-WR-CALDESC:Your online events calendar
X-WR-TIMEZONE:America/Phoenix
BEGIN:VTIMEZONE
TZID:America/Phoenix
BEGIN:STANDARD
TZNAME:MST
DTSTART:20240720T090739
TZOFFSETFROM:+0000
TZOFFSETTO:-0700
END:STANDARD
END:VTIMEZONE
BEGIN:VEVENT
UID:20241012T080000UTC-7366pIXFP3@https://havasurealtors.com/
DTSTAMP:20260421T090739Z
CATEGORIES:Rentals
DTSTART;TZID=America/Phoenix:20241012T000000
DTEND;TZID=America/Phoenix:20241012T235959
SUMMARY:Rental (Villarreal)
URL:https://www.havasurealtors.com/calendar-menu/258-rentals/4450-rental-vi
 llarreal.html
END:VEVENT
END:VCALENDAR
