BEGIN:VCALENDAR
VERSION:2.0
PRODID:-//https://www.havasurealtors.com//NONSGML kigkonsult.se iCalcreator 2.41.71//
CALSCALE:GREGORIAN
METHOD:PUBLISH
UID:38326563-3135-4966-b865-663034333039
X-WR-CALNAME:JCal Pro Calendar
X-WR-CALDESC:Your online events calendar
X-WR-TIMEZONE:America/Phoenix
BEGIN:VTIMEZONE
TZID:America/Phoenix
BEGIN:STANDARD
TZNAME:MST
DTSTART:20240719T122145
TZOFFSETFROM:+0000
TZOFFSETTO:-0700
END:STANDARD
END:VTIMEZONE
BEGIN:VEVENT
UID:20250524T120000UTC-9418XNGr3h@https://havasurealtors.com/
DTSTAMP:20260420T122145Z
CATEGORIES:Rentals
DTSTART;TZID=America/Phoenix:20250524T000000
DTEND;TZID=America/Phoenix:20250524T235959
SUMMARY:Rental (Fullmer)
URL:https://www.havasurealtors.com/calendar-menu/258-rentals/4769-rental-fu
 llmer.html
END:VEVENT
END:VCALENDAR
