BEGIN:VCALENDAR
VERSION:2.0
PRODID:-//https://www.havasurealtors.com//NONSGML kigkonsult.se iCalcreator 2.41.71//
CALSCALE:GREGORIAN
METHOD:PUBLISH
UID:34383733-6230-4438-a332-613530373733
X-WR-CALNAME:JCal Pro Calendar
X-WR-CALDESC:Your online events calendar
X-WR-TIMEZONE:America/Phoenix
BEGIN:VTIMEZONE
TZID:America/Phoenix
BEGIN:STANDARD
TZNAME:MST
DTSTART:20240722T053640
TZOFFSETFROM:+0000
TZOFFSETTO:-0700
END:STANDARD
END:VTIMEZONE
BEGIN:VEVENT
UID:20260115T130000UTC-7375NUOVOu@https://havasurealtors.com/
DTSTAMP:20260423T053640Z
CATEGORIES:MLS Committee
DTSTART;TZID=America/Phoenix:20260202T100000
DTEND;TZID=America/Phoenix:20260202T110000
SUMMARY:CANCELLED: MLS Task Force Meeting
URL:https://www.havasurealtors.com/calendar-menu/189-meetings-calendar-cate
 gory/194-committee-meetings-calendar-cateogory/271-multiple-listing-servic
 e/5235-mls-task-force-meeting-2.html
END:VEVENT
END:VCALENDAR
