BEGIN:VCALENDAR
VERSION:2.0
PRODID:-//https://www.havasurealtors.com//NONSGML kigkonsult.se iCalcreator 2.41.71//
CALSCALE:GREGORIAN
METHOD:PUBLISH
UID:64656536-6133-4362-b633-306365376630
X-WR-CALNAME:JCal Pro Calendar
X-WR-CALDESC:Your online events calendar
X-WR-TIMEZONE:America/Phoenix
BEGIN:VTIMEZONE
TZID:America/Phoenix
BEGIN:STANDARD
TZNAME:MST
DTSTART:20240722T140048
TZOFFSETFROM:+0000
TZOFFSETTO:-0700
END:STANDARD
END:VTIMEZONE
BEGIN:VEVENT
UID:20250107T080000UTC-7004iVUnv0@https://havasurealtors.com/
DTSTAMP:20260423T140048Z
CATEGORIES:Board of Directors
DTSTART;TZID=America/Phoenix:20250107T090000
DTEND;TZID=America/Phoenix:20250107T100000
RRULE:FREQ=MONTHLY;COUNT=12;INTERVAL=1;BYDAY=TU;BYSETPOS=2
SUMMARY:Executive Committee Meeting
URL:https://www.havasurealtors.com/calendar-menu/189-meetings-calendar-cate
 gory/194-committee-meetings-calendar-cateogory/268-board-of-directors/4677
 -executive-committee-meeting.html
END:VEVENT
BEGIN:VEVENT
UID:20250909T120000UTC-8996dEIUaI@https://havasurealtors.com/
DTSTAMP:20260423T140048Z
CATEGORIES:Private Meetings
DESCRIPTION:<p>Arizona Rebel Republic</p>
DTSTART;TZID=America/Phoenix:20250909T120000
DTEND;TZID=America/Phoenix:20250909T140000
SUMMARY:Past Presidents Luncheon 2025
URL:https://www.havasurealtors.com/calendar-menu/189-meetings-calendar-cate
 gory/191-private-meetings-calendar-category/4891-past-presidents-luncheon-
 2025.html
X-ALT-DESC;FMTTYPE=TEXT/HTML:<p>Arizona Rebel Republic</p>
END:VEVENT
BEGIN:VEVENT
UID:20250416T120000UTC-9444vvcW8h@https://havasurealtors.com/
DTSTAMP:20260423T140048Z
CATEGORIES:MLS Tour Meetings
DTSTART;TZID=America/Phoenix:20250416T081500
DTEND;TZID=America/Phoenix:20250416T084500
RRULE:FREQ=WEEKLY;UNTIL=20251231T070000Z;INTERVAL=3;BYDAY=WE
SUMMARY:MLS Tour - North Area
URL:https://www.havasurealtors.com/calendar-menu/189-meetings-calendar-cate
 gory/193-mls-tour-meetings-calendar-category/4792-mls-tour-north-area.html
END:VEVENT
BEGIN:VEVENT
UID:20250910T100000UTC-5385uavxVA@https://havasurealtors.com/
DTSTAMP:20260423T140048Z
CATEGORIES:Meetings
DTSTART;TZID=America/Phoenix:20250910T100000
DTEND;TZID=America/Phoenix:20250910T110000
SUMMARY:Membership Celebration Party Meeting
URL:https://www.havasurealtors.com/calendar-menu/189-meetings-calendar-cate
 gory/4901-membership-celebration-party.html
END:VEVENT
BEGIN:VEVENT
UID:20250910T170000UTC-0739UWA7vt@https://havasurealtors.com/
DTSTAMP:20260423T140048Z
CATEGORIES:Rentals
DTSTART;TZID=America/Phoenix:20250910T170000
DTEND;TZID=America/Phoenix:20250910T180000
RRULE:FREQ=MONTHLY;COUNT=2;INTERVAL=1;BYDAY=WE;BYSETPOS=2
SUMMARY:Rental (Havasu Balloon Festival)
URL:https://www.havasurealtors.com/calendar-menu/258-rentals/4892-rental-ha
 vasu-balloon-festival.html
END:VEVENT
BEGIN:VEVENT
UID:20250912T160000UTC-4669KE9Bwc@https://havasurealtors.com/
DTSTAMP:20260423T140048Z
CATEGORIES:Rentals
DTSTART;TZID=America/Phoenix:20250912T160000
DTEND;TZID=America/Phoenix:20250913T235900
SUMMARY:Rental (Castro)
URL:https://www.havasurealtors.com/calendar-menu/258-rentals/4496-rental-ca
 stro.html
END:VEVENT
END:VCALENDAR
