BEGIN:VCALENDAR
VERSION:2.0
PRODID:-//https://www.havasurealtors.com//NONSGML kigkonsult.se iCalcreator 2.41.71//
CALSCALE:GREGORIAN
METHOD:PUBLISH
UID:63343630-6538-4461-a336-626365323034
X-WR-CALNAME:JCal Pro Calendar
X-WR-CALDESC:Your online events calendar
X-WR-TIMEZONE:America/Phoenix
BEGIN:VTIMEZONE
TZID:America/Phoenix
BEGIN:STANDARD
TZNAME:MST
DTSTART:20240720T145614
TZOFFSETFROM:+0000
TZOFFSETTO:-0700
END:STANDARD
END:VTIMEZONE
BEGIN:VEVENT
UID:20260130T150000UTC-7470giiUKb@https://havasurealtors.com/
DTSTAMP:20260421T145614Z
CATEGORIES:Credited Classes
DTSTART;TZID=America/Phoenix:20260608T130000
DTEND;TZID=America/Phoenix:20260608T160000
SUMMARY:Ignorance Is No Excuse! 2 (3 hrs) / Managing Risk in Real Estate
URL:https://www.havasurealtors.com/calendar-menu/259-education-classes/184-
 credited-classes-calendar-category/5330-ignorance-is-no-excuse-2-3-hrs-man
 aging-risk-in-real-estate.html
END:VEVENT
BEGIN:VEVENT
UID:20260113T090000UTC-3071ePRMOF@https://havasurealtors.com/
DTSTAMP:20260421T145614Z
CATEGORIES:Board of Directors
DTSTART;TZID=America/Phoenix:20260113T090000
DTEND;TZID=America/Phoenix:20260113T100000
RRULE:FREQ=MONTHLY;UNTIL=20261231T070000Z;INTERVAL=1;BYDAY=TU;BYSETPOS=2
SUMMARY:Executive Committee Meeting
URL:https://www.havasurealtors.com/calendar-menu/189-meetings-calendar-cate
 gory/194-committee-meetings-calendar-cateogory/268-board-of-directors/4987
 -executive-committee-meeting.html
END:VEVENT
BEGIN:VEVENT
UID:20260107T081500UTC-0584WaCREV@https://havasurealtors.com/
DTSTAMP:20260421T145614Z
CATEGORIES:MLS Tour Meetings
DTSTART;TZID=America/Phoenix:20260610T083000
DTEND;TZID=America/Phoenix:20260610T083000
SUMMARY:Wednesday Market Mixer - South
URL:https://www.havasurealtors.com/calendar-menu/189-meetings-calendar-cate
 gory/193-mls-tour-meetings-calendar-category/4957-mls-tour-south-area.html
END:VEVENT
BEGIN:VEVENT
UID:20260613T090000UTC-4985NtKcI3@https://havasurealtors.com/
DTSTAMP:20260421T145614Z
CATEGORIES:Professional & Business Development
DTSTART;TZID=America/Phoenix:20260613T090000
DTEND;TZID=America/Phoenix:20260618T160000
SUMMARY:NAR Midyear Conference\, Washington\, D.C.
URL:https://www.havasurealtors.com/calendar-menu/189-meetings-calendar-cate
 gory/194-committee-meetings-calendar-cateogory/272-professional-business-d
 evelopment/5014-nar-midyear-conference-wash-dc.html
END:VEVENT
END:VCALENDAR
