BEGIN:VCALENDAR
VERSION:2.0
PRODID:-//https://www.havasurealtors.com//NONSGML kigkonsult.se iCalcreator 2.41.71//
CALSCALE:GREGORIAN
METHOD:PUBLISH
UID:39333763-3438-4134-b135-316662313036
X-WR-CALNAME:JCal Pro Calendar
X-WR-CALDESC:Your online events calendar
X-WR-TIMEZONE:America/Phoenix
BEGIN:VTIMEZONE
TZID:America/Phoenix
BEGIN:STANDARD
TZNAME:MST
DTSTART:20240724T023507
TZOFFSETFROM:+0000
TZOFFSETTO:-0700
END:STANDARD
END:VTIMEZONE
BEGIN:VEVENT
UID:20260303T100000UTC-2433VeapkP@https://havasurealtors.com/
DTSTAMP:20260425T023507Z
CATEGORIES:MLS Committee
DTSTART;TZID=America/Phoenix:20260303T100000
DTEND;TZID=America/Phoenix:20260303T110000
RRULE:FREQ=MONTHLY;COUNT=10;INTERVAL=1;BYDAY=TU;BYSETPOS=1
SUMMARY:MLS Committee Meeting
URL:https://www.havasurealtors.com/calendar-menu/189-meetings-calendar-cate
 gory/194-committee-meetings-calendar-cateogory/271-multiple-listing-servic
 e/5300-mls-committee-meeting.html
END:VEVENT
BEGIN:VEVENT
UID:20260107T080000UTC-0024jSCSuu@https://havasurealtors.com/
DTSTAMP:20260425T023507Z
CATEGORIES:Orientation Classes
DTSTART;TZID=America/Phoenix:20260708T080000
DTEND;TZID=America/Phoenix:20260708T120000
SUMMARY:New Member Orientation & Tour
URL:https://www.havasurealtors.com/calendar-menu/259-education-classes/257-
 orientation-classes/5113-new-member-orientation-tour.html
END:VEVENT
BEGIN:VEVENT
UID:20260107T081500UTC-0584WaCREV@https://havasurealtors.com/
DTSTAMP:20260425T023507Z
CATEGORIES:MLS Tour Meetings
DTSTART;TZID=America/Phoenix:20260708T083000
DTEND;TZID=America/Phoenix:20260708T083000
SUMMARY:Wednesday Market Mixer - South
URL:https://www.havasurealtors.com/calendar-menu/189-meetings-calendar-cate
 gory/193-mls-tour-meetings-calendar-category/4961-mls-tour-south-area.html
END:VEVENT
BEGIN:VEVENT
UID:20260708T093000UTC-8182c6pvU6@https://havasurealtors.com/
DTSTAMP:20260425T023507Z
CATEGORIES:Finance Committee
DTSTART;TZID=America/Phoenix:20260708T093000
DTEND;TZID=America/Phoenix:20260708T103000
SUMMARY:Finance Committee Meeting
URL:https://www.havasurealtors.com/calendar-menu/189-meetings-calendar-cate
 gory/194-committee-meetings-calendar-cateogory/269-finance-committee/5336-
 finance-committee-meeting.html
END:VEVENT
BEGIN:VEVENT
UID:20260108T090000UTC-7802vOEFuM@https://havasurealtors.com/
DTSTAMP:20260425T023507Z
CATEGORIES:Non-credited Classes
DTSTART;TZID=America/Phoenix:20260709T090000
DTEND;TZID=America/Phoenix:20260709T110000
SUMMARY:Flex MLS Training (New Member Requirement)
URL:https://www.havasurealtors.com/calendar-menu/259-education-classes/185-
 non-credited-classes-calendar-category/5105-flex-mls-training-new-member-r
 equirement.html
END:VEVENT
BEGIN:VEVENT
UID:20260709T110000UTC-5663VtwpFU@https://havasurealtors.com/
DTSTAMP:20260425T023507Z
CATEGORIES:Meetings
DESCRIPTION:<p>Red\, White and Blue Lunch at LHAR</p>\n<p>*Queens of Hearts
  - 50/50 Drawing</p>
DTSTART;TZID=America/Phoenix:20260709T110000
DTEND;TZID=America/Phoenix:20260709T130000
SUMMARY:WCR Meeting @ LHAR - Bunco (Lunch)
URL:https://www.havasurealtors.com/calendar-menu/189-meetings-calendar-cate
 gory/5127-wcr-meeting-lhar.html
X-ALT-DESC;FMTTYPE=TEXT/HTML:<p>Red\, White and Blue Lunch at LHAR</p>\n<p>
 *Queens of Hearts - 50/50 Drawing</p>
END:VEVENT
END:VCALENDAR
