BEGIN:VCALENDAR
VERSION:2.0
PRODID:-//https://www.havasurealtors.com//NONSGML kigkonsult.se iCalcreator 2.41.71//
CALSCALE:GREGORIAN
METHOD:PUBLISH
UID:66323565-3265-4466-a339-353961626338
X-WR-CALNAME:JCal Pro Calendar
X-WR-CALDESC:Your online events calendar
X-WR-TIMEZONE:America/Phoenix
BEGIN:VTIMEZONE
TZID:America/Phoenix
BEGIN:STANDARD
TZNAME:MST
DTSTART:20240723T150340
TZOFFSETFROM:+0000
TZOFFSETTO:-0700
END:STANDARD
END:VTIMEZONE
BEGIN:VEVENT
UID:20260107T081500UTC-0584WaCREV@https://havasurealtors.com/
DTSTAMP:20260424T150340Z
CATEGORIES:MLS Tour Meetings
DTSTART;TZID=America/Phoenix:20260930T083000
DTEND;TZID=America/Phoenix:20260930T083000
SUMMARY:Wednesday Market Mixer
URL:https://www.havasurealtors.com/calendar-menu/189-meetings-calendar-cate
 gory/193-mls-tour-meetings-calendar-category/4973-mls-tour-south-area.html
END:VEVENT
BEGIN:VEVENT
UID:20260108T090000UTC-7802vOEFuM@https://havasurealtors.com/
DTSTAMP:20260424T150340Z
CATEGORIES:Non-credited Classes
DTSTART;TZID=America/Phoenix:20261001T090000
DTEND;TZID=America/Phoenix:20261001T110000
SUMMARY:Flex MLS Training (New Member Requirement)
URL:https://www.havasurealtors.com/calendar-menu/259-education-classes/185-
 non-credited-classes-calendar-category/5108-flex-mls-training-new-member-r
 equirement.html
END:VEVENT
END:VCALENDAR
