BEGIN:VCALENDAR
VERSION:2.0
PRODID:-//https://www.havasurealtors.com//NONSGML kigkonsult.se iCalcreator 2.41.71//
CALSCALE:GREGORIAN
METHOD:PUBLISH
UID:38623338-6132-4932-b165-373235643261
X-WR-CALNAME:JCal Pro Calendar
X-WR-CALDESC:Your online events calendar
X-WR-TIMEZONE:America/Phoenix
BEGIN:VTIMEZONE
TZID:America/Phoenix
BEGIN:STANDARD
TZNAME:MST
DTSTART:20240721T063658
TZOFFSETFROM:+0000
TZOFFSETTO:-0700
END:STANDARD
END:VTIMEZONE
BEGIN:VEVENT
UID:20260113T090000UTC-3071ePRMOF@https://havasurealtors.com/
DTSTAMP:20260422T063658Z
CATEGORIES:Board of Directors
DTSTART;TZID=America/Phoenix:20261103T090000
DTEND;TZID=America/Phoenix:20261103T100000
SUMMARY:Executive Committee Meeting
URL:https://www.havasurealtors.com/calendar-menu/189-meetings-calendar-cate
 gory/194-committee-meetings-calendar-cateogory/268-board-of-directors/4997
 -executive-committee-meeting.html
END:VEVENT
BEGIN:VEVENT
UID:20260303T100000UTC-2433VeapkP@https://havasurealtors.com/
DTSTAMP:20260422T063658Z
CATEGORIES:MLS Committee
DTSTART;TZID=America/Phoenix:20260303T100000
DTEND;TZID=America/Phoenix:20260303T110000
RRULE:FREQ=MONTHLY;COUNT=10;INTERVAL=1;BYDAY=TU;BYSETPOS=1
SUMMARY:MLS Committee Meeting
URL:https://www.havasurealtors.com/calendar-menu/189-meetings-calendar-cate
 gory/194-committee-meetings-calendar-cateogory/271-multiple-listing-servic
 e/5300-mls-committee-meeting.html
END:VEVENT
BEGIN:VEVENT
UID:20260107T080000UTC-0024jSCSuu@https://havasurealtors.com/
DTSTAMP:20260422T063658Z
CATEGORIES:Orientation Classes
DTSTART;TZID=America/Phoenix:20261104T080000
DTEND;TZID=America/Phoenix:20261104T120000
SUMMARY:New Member Orientation & Tour
URL:https://www.havasurealtors.com/calendar-menu/259-education-classes/257-
 orientation-classes/5115-new-member-orientation-tour.html
END:VEVENT
BEGIN:VEVENT
UID:20260107T081500UTC-0584WaCREV@https://havasurealtors.com/
DTSTAMP:20260422T063658Z
CATEGORIES:MLS Tour Meetings
DTSTART;TZID=America/Phoenix:20261104T083000
DTEND;TZID=America/Phoenix:20261104T083000
SUMMARY:Wednesday Market Mixer
URL:https://www.havasurealtors.com/calendar-menu/189-meetings-calendar-cate
 gory/193-mls-tour-meetings-calendar-category/4978-mls-tour-south-area.html
END:VEVENT
BEGIN:VEVENT
UID:20261106T090000UTC-2285z9uuGw@https://havasurealtors.com/
DTSTAMP:20260422T063658Z
CATEGORIES:Professional & Business Development
DESCRIPTION:<h3 class='card-view__title'><a data-rank='1' class='trackLink'
  href='https://www.nar.realtor/links/nar-nxt-the-realtorr-experience' data
 -di-id='di-id-62c5a0f2-6c874da9'>NAR NXT\, The REALTOR® Experience</a></h3
 >\n<p>Save the date for the 2026 NAR NXT\, the REALTOR® Experience\, Novem
 ber 6-8\, in New Orleans\, LA. Check back for details!</p>
DTSTART;TZID=America/Phoenix:20261104T090000
DTEND;TZID=America/Phoenix:20261109T160000
SUMMARY:NAR Annual NEXT 2026\, New Orleans
URL:https://www.havasurealtors.com/calendar-menu/189-meetings-calendar-cate
 gory/194-committee-meetings-calendar-cateogory/272-professional-business-d
 evelopment/5020-nar-annual-next-2026-new-orleans.html
X-ALT-DESC;FMTTYPE=TEXT/HTML:<h3 class='card-view__title'><a data-rank='1' 
 class='trackLink' href='https://www.nar.realtor/links/nar-nxt-the-realtorr
 -experience' data-di-id='di-id-62c5a0f2-6c874da9'>NAR NXT\, The REALTOR® E
 xperience</a></h3>\n<p>Save the date for the 2026 NAR NXT\, the REALTOR® E
 xperience\, November 6-8\, in New Orleans\, LA. Check back for details!</p
 >
END:VEVENT
BEGIN:VEVENT
UID:20260108T090000UTC-7802vOEFuM@https://havasurealtors.com/
DTSTAMP:20260422T063658Z
CATEGORIES:Non-credited Classes
DTSTART;TZID=America/Phoenix:20261105T090000
DTEND;TZID=America/Phoenix:20261105T110000
SUMMARY:Flex MLS Training (New Member Requirement)
URL:https://www.havasurealtors.com/calendar-menu/259-education-classes/185-
 non-credited-classes-calendar-category/5109-flex-mls-training-new-member-r
 equirement.html
END:VEVENT
END:VCALENDAR
