BEGIN:VCALENDAR
VERSION:2.0
PRODID:-//https://www.havasurealtors.com//NONSGML kigkonsult.se iCalcreator 2.41.71//
CALSCALE:GREGORIAN
METHOD:PUBLISH
UID:37303564-6261-4533-a661-666532613637
X-WR-CALNAME:JCal Pro Calendar
X-WR-CALDESC:Your online events calendar
X-WR-TIMEZONE:America/Phoenix
BEGIN:VTIMEZONE
TZID:America/Phoenix
BEGIN:STANDARD
TZNAME:MST
DTSTART:20240721T185444
TZOFFSETFROM:+0000
TZOFFSETTO:-0700
END:STANDARD
END:VTIMEZONE
BEGIN:VEVENT
UID:20200310T100000MST-7381LvspOV@http://lhsuiws.rapams.com/
DTSTAMP:20260422T185444Z
CATEGORIES:Events
DTSTART;TZID=America/Phoenix:20200310T100000
DTEND;TZID=America/Phoenix:20200310T120000
SUMMARY:Sam Powell Event
URL:https://www.havasurealtors.com/full-calendar-calendar-menu/187-public-e
 vents-calendar-category/1992-sam-powell-event.html
END:VEVENT
END:VCALENDAR
