BEGIN:VCALENDAR
VERSION:2.0
PRODID:-//https://www.havasurealtors.com//NONSGML kigkonsult.se iCalcreator 2.41.71//
CALSCALE:GREGORIAN
METHOD:PUBLISH
UID:38636338-6539-4436-a662-366139336462
X-WR-CALNAME:JCal Pro Calendar
X-WR-CALDESC:Your online events calendar
X-WR-TIMEZONE:America/Phoenix
BEGIN:VTIMEZONE
TZID:America/Phoenix
BEGIN:STANDARD
TZNAME:MST
DTSTART:20240719T045030
TZOFFSETFROM:+0000
TZOFFSETTO:-0700
END:STANDARD
END:VTIMEZONE
BEGIN:VEVENT
UID:20220729T083000MST-3221hKZuXB@https://lhsuiws.rapams.com/
DTSTAMP:20260420T045030Z
CATEGORIES:Public Meetings
DTSTART;TZID=America/Phoenix:20220729T083000
DTEND;TZID=America/Phoenix:20220729T103000
SUMMARY:Breakfast - General Membership Meeting
URL:https://www.havasurealtors.com/full-calendar-calendar-menu/189-meetings
 -calendar-category/190-public-meetings-calendar-category/3274-breakfast-ge
 neral-membership-meeting.html
END:VEVENT
END:VCALENDAR
