BEGIN:VCALENDAR
VERSION:2.0
PRODID:-//https://www.havasurealtors.com//NONSGML kigkonsult.se iCalcreator 2.41.71//
CALSCALE:GREGORIAN
METHOD:PUBLISH
UID:66386562-6161-4031-b133-373338656138
X-WR-CALNAME:JCal Pro Calendar
X-WR-CALDESC:Your online events calendar
X-WR-TIMEZONE:America/Phoenix
BEGIN:VTIMEZONE
TZID:America/Phoenix
BEGIN:STANDARD
TZNAME:MST
DTSTART:20240723T234253
TZOFFSETFROM:+0000
TZOFFSETTO:-0700
END:STANDARD
END:VTIMEZONE
BEGIN:VEVENT
UID:20230721T120000MST-2606VuIPrv@https://lhsuiws.rapams.com/
DTSTAMP:20260424T234253Z
CATEGORIES:Public Meetings
DTSTART;TZID=America/Phoenix:20230721T120000
DTEND;TZID=America/Phoenix:20230721T130000
SUMMARY:School Teachers' Luncheon
URL:https://www.havasurealtors.com/full-calendar-calendar-menu/189-meetings
 -calendar-category/190-public-meetings-calendar-category/3782-school-teach
 ers-luncheon.html
END:VEVENT
END:VCALENDAR
