BEGIN:VCALENDAR
VERSION:2.0
PRODID:-//https://www.havasurealtors.com//NONSGML kigkonsult.se iCalcreator 2.41.71//
CALSCALE:GREGORIAN
METHOD:PUBLISH
UID:64616431-3761-4439-a236-393639656166
X-WR-CALNAME:JCal Pro Calendar
X-WR-CALDESC:Your online events calendar
X-WR-TIMEZONE:America/Phoenix
BEGIN:VTIMEZONE
TZID:America/Phoenix
BEGIN:STANDARD
TZNAME:MST
DTSTART:20240723T124653
TZOFFSETFROM:+0000
TZOFFSETTO:-0700
END:STANDARD
END:VTIMEZONE
BEGIN:VEVENT
UID:20221116T090000MST-02893cFGUI@https://lhsuiws.rapams.com/
DTSTAMP:20260424T124653Z
CATEGORIES:Private Meetings
DTSTART;TZID=America/Phoenix:20221116T090000
DTEND;TZID=America/Phoenix:20221116T100000
SUMMARY:Meeting
URL:https://www.havasurealtors.com/full-calendar-calendar-menu/189-meetings
 -calendar-category/191-private-meetings-calendar-category/3451-meeting.htm
 l
END:VEVENT
END:VCALENDAR
