BEGIN:VCALENDAR
VERSION:2.0
PRODID:-//https://www.havasurealtors.com//NONSGML kigkonsult.se iCalcreator 2.41.71//
CALSCALE:GREGORIAN
METHOD:PUBLISH
UID:64353334-3535-4737-a636-356235313233
X-WR-CALNAME:JCal Pro Calendar
X-WR-CALDESC:Your online events calendar
X-WR-TIMEZONE:America/Phoenix
BEGIN:VTIMEZONE
TZID:America/Phoenix
BEGIN:STANDARD
TZNAME:MST
DTSTART:20240718T174905
TZOFFSETFROM:+0000
TZOFFSETTO:-0700
END:STANDARD
END:VTIMEZONE
BEGIN:VEVENT
UID:20250923T090000UTC-1113tswC3S@https://havasurealtors.com/
DTSTAMP:20260419T174905Z
CATEGORIES:Credited Classes
DTSTART;TZID=America/Phoenix:20251118T090000
DTEND;TZID=America/Phoenix:20251118T160000
RRULE:FREQ=MONTHLY;COUNT=7;INTERVAL=2;BYDAY=TU;BYSETPOS=2
SUMMARY:New Member Contract Class
URL:https://www.havasurealtors.com/full-calendar-calendar-menu/259-educatio
 n-classes/184-credited-classes-calendar-category/4526-new-member-contract-
 class.html
END:VEVENT
END:VCALENDAR
