BEGIN:VCALENDAR
VERSION:2.0
PRODID:-//https://www.havasurealtors.com//NONSGML kigkonsult.se iCalcreator 2.41.71//
CALSCALE:GREGORIAN
METHOD:PUBLISH
UID:65643035-3765-4235-b234-663164643633
X-WR-CALNAME:JCal Pro Calendar
X-WR-CALDESC:Your online events calendar
X-WR-TIMEZONE:America/Phoenix
BEGIN:VTIMEZONE
TZID:America/Phoenix
BEGIN:STANDARD
TZNAME:MST
DTSTART:20240724T211027
TZOFFSETFROM:+0000
TZOFFSETTO:-0700
END:STANDARD
END:VTIMEZONE
BEGIN:VEVENT
UID:20231213T084500UTC-3209x1LmLa@https://havasurealtors.com/
DTSTAMP:20260425T211027Z
CATEGORIES:Credited Classes
DESCRIPTION:<p>Date: Wednesday\, December 13th\, 2023 - Thursday\, December
  14th\, 2023</p>\n<p>Time: 8:45am - 12:00pm</p>\n<p>C.E. Credits: 3 Agency
  / 3 Disclosure</p>\n<p>Cost: (See description below for pricing)</p>\n<p>
 Type: GRI</p>\n<p>Instructor: Keri Means</p>\n<p>Description:&nbsp\;<stron
 g>REALTOR® Member - $59 thru 12/5 | $79 after 12/5&nbsp\;</strong><strong>
 | GRI Graduate (you already have your GRI) - $30</strong></p>\n<p><strong>
 &nbsp\; &nbsp\; &nbsp\; &nbsp\; &nbsp\; &nbsp\; &nbsp\; &nbsp\; &nbsp\; &n
 bsp\; &nbsp\;Non REALTOR® Member - $89 thru 12/5 | $109 after 12/5<br /></
 strong></p>\n<p><strong>&nbsp\; &nbsp\; &nbsp\; &nbsp\; &nbsp\; &nbsp\; &n
 bsp\; &nbsp\; &nbsp\; &nbsp\; *Registration closes December 9th by midnigh
 t</strong></p>\n<p>Learn the impact property issues have on a transaction 
 and how to avoid them blowing up the deal. Understanding the pros and cons
  of property characteristics will help you manage the expectations of your
  buyer or seller.</p>\n<p><em><strong>&nbsp\; &nbsp\; &nbsp\; &nbsp\; &nbs
 p\; &nbsp\; &nbsp\; &nbsp\; &nbsp\; &nbsp\; &nbsp\; &nbsp\; &nbsp\; &nbsp\
 ; &nbsp\; &nbsp\; &nbsp\; &nbsp\; &nbsp\; &nbsp\; &nbsp\; &nbsp\; &nbsp\; 
 &nbsp\; &nbsp\; &nbsp\; &nbsp\; &nbsp\; &nbsp\; &nbsp\; &nbsp\; &nbsp\; &n
 bsp\; &nbsp\; &nbsp\; &nbsp\; &nbsp\; &nbsp\; ONLY 50 SEATS AVAILABLE</str
 ong></em></p>\n<p>Designation Information</p>\n<p><strong><em>(This class 
 fulfills row 6 for GRI)</em></strong></p>\n<p><strong>To learn more about 
 the GRI Designation\, visit:&nbsp\;</strong><a href='https://azgri.com/'>h
 ttps://azgri.com/</a></p>\n<p><a href='https://www.aaronline.com/calendar/
 view-event/?id=1769' class='wf_file'>REGISTER HERE!!</a></p>
DTSTART;TZID=America/Phoenix:20231213T084500
DTEND;TZID=America/Phoenix:20231214T120000
SUMMARY:GRI: MARKET ESSENTIALS: PROPERTY CONDITIONS (CE: 3 AGENCY / 3 DISCL
 OSURE) (Zoom DTM)
URL:https://www.havasurealtors.com/full-calendar-calendar-menu/259-educatio
 n-classes/184-credited-classes-calendar-category/4153-gri-market-essential
 s-property-conditions-ce-3-agency-3-disclosure-zoom-dtm.html
X-ALT-DESC;FMTTYPE=TEXT/HTML:<p>Date: Wednesday\, December 13th\, 2023 - Th
 ursday\, December 14th\, 2023</p>\n<p>Time: 8:45am - 12:00pm</p>\n<p>C.E. 
 Credits: 3 Agency / 3 Disclosure</p>\n<p>Cost: (See description below for 
 pricing)</p>\n<p>Type: GRI</p>\n<p>Instructor: Keri Means</p>\n<p>Descript
 ion:&nbsp\;<strong>REALTOR® Member - $59 thru 12/5 | $79 after 12/5&nbsp\;
 </strong><strong>| GRI Graduate (you already have your GRI) - $30</strong>
 </p>\n<p><strong>&nbsp\; &nbsp\; &nbsp\; &nbsp\; &nbsp\; &nbsp\; &nbsp\; &
 nbsp\; &nbsp\; &nbsp\; &nbsp\;Non REALTOR® Member - $89 thru 12/5 | $109 a
 fter 12/5<br /></strong></p>\n<p><strong>&nbsp\; &nbsp\; &nbsp\; &nbsp\; &
 nbsp\; &nbsp\; &nbsp\; &nbsp\; &nbsp\; &nbsp\; *Registration closes Decemb
 er 9th by midnight</strong></p>\n<p>Learn the impact property issues have 
 on a transaction and how to avoid them blowing up the deal. Understanding 
 the pros and cons of property characteristics will help you manage the exp
 ectations of your buyer or seller.</p>\n<p><em><strong>&nbsp\; &nbsp\; &nb
 sp\; &nbsp\; &nbsp\; &nbsp\; &nbsp\; &nbsp\; &nbsp\; &nbsp\; &nbsp\; &nbsp
 \; &nbsp\; &nbsp\; &nbsp\; &nbsp\; &nbsp\; &nbsp\; &nbsp\; &nbsp\; &nbsp\;
  &nbsp\; &nbsp\; &nbsp\; &nbsp\; &nbsp\; &nbsp\; &nbsp\; &nbsp\; &nbsp\; &
 nbsp\; &nbsp\; &nbsp\; &nbsp\; &nbsp\; &nbsp\; &nbsp\; &nbsp\; ONLY 50 SEA
 TS AVAILABLE</strong></em></p>\n<p>Designation Information</p>\n<p><strong
 ><em>(This class fulfills row 6 for GRI)</em></strong></p>\n<p><strong>To 
 learn more about the GRI Designation\, visit:&nbsp\;</strong><a href='http
 s://azgri.com/'>https://azgri.com/</a></p>\n<p><a href='https://www.aaronl
 ine.com/calendar/view-event/?id=1769' class='wf_file'>REGISTER HERE!!</a><
 /p>
END:VEVENT
BEGIN:VEVENT
UID:20231214T083000UTC-0206h9Kt5e@https://havasurealtors.com/
DTSTAMP:20260425T211027Z
CATEGORIES:Credited Classes
DESCRIPTION:<p>Date: Thursday\, December 14th\, 2023</p>\n<p>Time: 8:30am -
  12:30pm</p>\n<p>C.E. Credits: 3 Hours Legal Issues</p>\n<p>Cost: (See pri
 cing information in description below)</p>\n<p>Type: CRPM</p>\n<p>Instruct
 or: Guest Speakers: Sue Flucke / Denise Holliday\, Esq.</p>\n<p>Descriptio
 n:&nbsp\;</p>\n<p><strong>Registration Fees:</strong></p>\n<p><strong>Earl
 y registration by December 4th - $29</strong></p>\n<p><strong>General regi
 stration\, December 5-10th - $39</strong></p>\n<p><strong>Registration clo
 ses by midnight\, December 10th</strong></p>\n<p>The Property Management S
 ummit&nbsp\;gives you an opportunity to learn and discover current issues 
 and uncover industry insights to minimize your business risks as well as n
 avigate common issues you face with landlords and tenants.</p>\n<p><strong
 >The line up of speakers are:</strong></p>\n<p>Commissioner Nicolson | ADR
 E Updates</p>\n<p>Denise Holliday\, Esq. &amp\; Matthew Contorelli | Legal
  &amp\; LegislativeUpdates | Denise Holliday\, Esq. | Tenant Issues</p>\n<
 p>Jesi Wolnik\, Esq. | Title Fraud Affecting Rental Properties</p>\n<p>Cla
 rk Sanchez | Renters Insurance &amp\; Landlords</p>\n<p>Steve Urie | Natio
 nal Trends</p>\n<p><em><strong>*There will also be an open Q&amp\;A</stron
 g></em><strong><em><br /></em></strong></p>\n<p>Designation Information</p
 >\n<p><strong><em>(Fulfills the Landlord Tenant &amp\; Legal Issues Course
  for CRPM)</em></strong></p>\n<p><strong>CERTIFIED RESIDENTIAL PROPERTY MA
 NAGER (CRPM):</strong>&nbsp\;Arizona REALTORS® certification program is de
 dicated to property management and offers classes that you can use for you
 r real estate license renewal. This program was designed to hone your know
 ledge and skills in topics that relate to your day to day business as a pr
 operty manager. The curriculum was developed in concert with property mana
 gement attorneys and longtime property management practitioners.&nbsp\;<st
 rong>To learn more\, visit:</strong>&nbsp\;<a href='https://www.aaronline.
 com/increase-knowledge'>www.aaronline.com/increase-knowledge</a>.</p>\n<p>
 <a href='https://www.aaronline.com/calendar/view-event/?id=1768' class='wf
 _file'>REGISTER HERE!!</a></p>
DTSTART;TZID=America/Phoenix:20231214T083000
DTEND;TZID=America/Phoenix:20231214T123000
SUMMARY:CRPM 6th Annual Property Management Summit (CE: 3 Legal Issues) (Zo
 om DTM)
URL:https://www.havasurealtors.com/full-calendar-calendar-menu/259-educatio
 n-classes/184-credited-classes-calendar-category/4155-crpm-6th-annual-prop
 erty-management-summit-ce-3-legal-issues-zoom-dtm.html
X-ALT-DESC;FMTTYPE=TEXT/HTML:<p>Date: Thursday\, December 14th\, 2023</p>\n
 <p>Time: 8:30am - 12:30pm</p>\n<p>C.E. Credits: 3 Hours Legal Issues</p>\n
 <p>Cost: (See pricing information in description below)</p>\n<p>Type: CRPM
 </p>\n<p>Instructor: Guest Speakers: Sue Flucke / Denise Holliday\, Esq.</
 p>\n<p>Description:&nbsp\;</p>\n<p><strong>Registration Fees:</strong></p>
 \n<p><strong>Early registration by December 4th - $29</strong></p>\n<p><st
 rong>General registration\, December 5-10th - $39</strong></p>\n<p><strong
 >Registration closes by midnight\, December 10th</strong></p>\n<p>The Prop
 erty Management Summit&nbsp\;gives you an opportunity to learn and discove
 r current issues and uncover industry insights to minimize your business r
 isks as well as navigate common issues you face with landlords and tenants
 .</p>\n<p><strong>The line up of speakers are:</strong></p>\n<p>Commission
 er Nicolson | ADRE Updates</p>\n<p>Denise Holliday\, Esq. &amp\; Matthew C
 ontorelli | Legal &amp\; LegislativeUpdates | Denise Holliday\, Esq. | Ten
 ant Issues</p>\n<p>Jesi Wolnik\, Esq. | Title Fraud Affecting Rental Prope
 rties</p>\n<p>Clark Sanchez | Renters Insurance &amp\; Landlords</p>\n<p>S
 teve Urie | National Trends</p>\n<p><em><strong>*There will also be an ope
 n Q&amp\;A</strong></em><strong><em><br /></em></strong></p>\n<p>Designati
 on Information</p>\n<p><strong><em>(Fulfills the Landlord Tenant &amp\; Le
 gal Issues Course for CRPM)</em></strong></p>\n<p><strong>CERTIFIED RESIDE
 NTIAL PROPERTY MANAGER (CRPM):</strong>&nbsp\;Arizona REALTORS® certificat
 ion program is dedicated to property management and offers classes that yo
 u can use for your real estate license renewal. This program was designed 
 to hone your knowledge and skills in topics that relate to your day to day
  business as a property manager. The curriculum was developed in concert w
 ith property management attorneys and longtime property management practit
 ioners.&nbsp\;<strong>To learn more\, visit:</strong>&nbsp\;<a href='https
 ://www.aaronline.com/increase-knowledge'>www.aaronline.com/increase-knowle
 dge</a>.</p>\n<p><a href='https://www.aaronline.com/calendar/view-event/?i
 d=1768' class='wf_file'>REGISTER HERE!!</a></p>
END:VEVENT
END:VCALENDAR
