BEGIN:VCALENDAR
VERSION:2.0
PRODID:-//https://www.havasurealtors.com//NONSGML kigkonsult.se iCalcreator 2.41.71//
CALSCALE:GREGORIAN
METHOD:PUBLISH
UID:35633430-3261-4639-b037-393331626261
X-WR-CALNAME:JCal Pro Calendar
X-WR-CALDESC:Your online events calendar
X-WR-TIMEZONE:America/Phoenix
BEGIN:VTIMEZONE
TZID:America/Phoenix
BEGIN:STANDARD
TZNAME:MST
DTSTART:20240720T024228
TZOFFSETFROM:+0000
TZOFFSETTO:-0700
END:STANDARD
END:VTIMEZONE
BEGIN:VEVENT
UID:20240104T090000UTC-3992u3GUNM@https://havasurealtors.com/
DTSTAMP:20260421T024228Z
CATEGORIES:Orientation Classes
DTSTART;TZID=America/Phoenix:20240104T090000
DTEND;TZID=America/Phoenix:20240104T120000
RRULE:FREQ=MONTHLY;UNTIL=20241231T070000Z;INTERVAL=1;BYDAY=TH;BYSETPOS=1
SUMMARY:FlexMLS Training
URL:https://www.havasurealtors.com/full-calendar-calendar-menu/259-educatio
 n-classes/257-orientation-classes/4061-flex-mls-training.html
END:VEVENT
END:VCALENDAR
