BEGIN:VCALENDAR
VERSION:2.0
PRODID:-//https://www.havasurealtors.com//NONSGML kigkonsult.se iCalcreator 2.41.71//
CALSCALE:GREGORIAN
METHOD:PUBLISH
UID:30373932-3632-4036-b732-643063636263
X-WR-CALNAME:JCal Pro Calendar
X-WR-CALDESC:Your online events calendar
X-WR-TIMEZONE:America/Phoenix
BEGIN:VTIMEZONE
TZID:America/Phoenix
BEGIN:STANDARD
TZNAME:MST
DTSTART:20240719T184336
TZOFFSETFROM:+0000
TZOFFSETTO:-0700
END:STANDARD
END:VTIMEZONE
BEGIN:VEVENT
UID:20240108T103000UTC-6034KRceJx@https://havasurealtors.com/
DTSTAMP:20260420T184336Z
CATEGORIES:REALTOR Olympics
DTSTART;TZID=America/Phoenix:20240205T103000
DTEND;TZID=America/Phoenix:20240205T103000
SUMMARY:REALTOR® Olympics Chair Meeting
URL:https://www.havasurealtors.com/full-calendar-calendar-menu/189-meetings
 -calendar-category/194-committee-meetings-calendar-cateogory/273-realtor-o
 lympics/4281-realtor-olympics-chair-meeting.html
END:VEVENT
END:VCALENDAR
