BEGIN:VCALENDAR
VERSION:2.0
PRODID:-//https://www.havasurealtors.com//NONSGML kigkonsult.se iCalcreator 2.41.71//
CALSCALE:GREGORIAN
METHOD:PUBLISH
UID:38383039-3162-4435-a636-353732356336
X-WR-CALNAME:JCal Pro Calendar
X-WR-CALDESC:Your online events calendar
X-WR-TIMEZONE:America/Phoenix
BEGIN:VTIMEZONE
TZID:America/Phoenix
BEGIN:STANDARD
TZNAME:MST
DTSTART:20240718T192708
TZOFFSETFROM:+0000
TZOFFSETTO:-0700
END:STANDARD
END:VTIMEZONE
BEGIN:VEVENT
UID:20240413T080000UTC-8276VmejBH@https://havasurealtors.com/
DTSTAMP:20260419T192708Z
CATEGORIES:Rentals
DTSTART;TZID=America/Phoenix:20240413T000000
DTEND;TZID=America/Phoenix:20240413T235959
SUMMARY:Rental (Landoni)
URL:https://www.havasurealtors.com/full-calendar-calendar-menu/258-rentals/
 4352-rental-landoni.html
END:VEVENT
END:VCALENDAR
