BEGIN:VCALENDAR
VERSION:2.0
PRODID:-//https://www.havasurealtors.com//NONSGML kigkonsult.se iCalcreator 2.41.71//
CALSCALE:GREGORIAN
METHOD:PUBLISH
UID:38373330-6136-4335-b266-393462363432
X-WR-CALNAME:JCal Pro Calendar
X-WR-CALDESC:Your online events calendar
X-WR-TIMEZONE:America/Phoenix
BEGIN:VTIMEZONE
TZID:America/Phoenix
BEGIN:STANDARD
TZNAME:MST
DTSTART:20240718T184739
TZOFFSETFROM:+0000
TZOFFSETTO:-0700
END:STANDARD
END:VTIMEZONE
BEGIN:VEVENT
UID:20240618T084500UTC-6460rfW2cR@https://havasurealtors.com/
DTSTAMP:20260419T184739Z
CATEGORIES:Credited Classes
DESCRIPTION:<h2><span style='font-size: 14pt\;'>CE: WHAT'S IN A NAME? (CE: 
 3 COMMISSIONER'S STANDARDS)&nbsp\;</span></h2>\n<p>Instructor: Sally &amp\
 ; Mike Liddicoat</p>\n<p>Cost:&nbsp\;<strong>REALTOR® MEMBER</strong>&nbsp
 \;- $20 through 6/10 | $40 after |&nbsp\;<strong>NON REALTOR® MEMBER</stro
 ng>&nbsp\;- $40 through 6/10 | $60 after&nbsp\;</p>\n<p>Registration close
 s June 14th at midnight |&nbsp\;<strong>ONLY 50 SEATS AVAILABLE&nbsp\;</st
 rong></p>\n<p>Description: Article 26 of the U.S. Constitution allows lice
 nsees to draft contracts and related forms. What would a real estate agent
  do without this right?</p>\n<p>This right puts a lot of responsibility in
  a licensee's hands. In addition to discussing Article 26\, this class wil
 l delve into how to protect your name and the right way to name your busin
 esses. Trade names\, nicknames\, and company/corporate organization types 
 will all be covered. What’s in a name matters!</p>\n<p>Calendar<a href='ht
 tps://www.aaronline.com/event_export.php?event_id=1930&amp\;date=2024-06-1
 8&amp\;day=1'>Download this event for Outlook or iCal for 2024-06-18</a><b
 r /><strong>LocationVia ZOOM Direct to Member (DTM)</strong></p>\n<p><a hr
 ef='https://www.aaronline.com/calendar/view-event/?id=1930' class='wf_file
 '>REGISTER HERE!</a></p>
DTSTART;TZID=America/Phoenix:20240618T084500
DTEND;TZID=America/Phoenix:20240618T120000
SUMMARY:CE: WHAT'S IN A NAME? (CE: 3 COMMISSIONER'S STANDARDS) (AAR Zoom DT
 M)
URL:https://www.havasurealtors.com/full-calendar-calendar-menu/259-educatio
 n-classes/184-credited-classes-calendar-category/4403-ce-whats-in-a-name-c
 e-3-commissioners-standards-aar-zoom-dtm.html
X-ALT-DESC;FMTTYPE=TEXT/HTML:<h2><span style='font-size: 14pt\;'>CE: WHAT'S
  IN A NAME? (CE: 3 COMMISSIONER'S STANDARDS)&nbsp\;</span></h2>\n<p>Instru
 ctor: Sally &amp\; Mike Liddicoat</p>\n<p>Cost:&nbsp\;<strong>REALTOR® MEM
 BER</strong>&nbsp\;- $20 through 6/10 | $40 after |&nbsp\;<strong>NON REAL
 TOR® MEMBER</strong>&nbsp\;- $40 through 6/10 | $60 after&nbsp\;</p>\n<p>R
 egistration closes June 14th at midnight |&nbsp\;<strong>ONLY 50 SEATS AVA
 ILABLE&nbsp\;</strong></p>\n<p>Description: Article 26 of the U.S. Constit
 ution allows licensees to draft contracts and related forms. What would a 
 real estate agent do without this right?</p>\n<p>This right puts a lot of 
 responsibility in a licensee's hands. In addition to discussing Article 26
 \, this class will delve into how to protect your name and the right way t
 o name your businesses. Trade names\, nicknames\, and company/corporate or
 ganization types will all be covered. What’s in a name matters!</p>\n<p>Ca
 lendar<a href='https://www.aaronline.com/event_export.php?event_id=1930&am
 p\;date=2024-06-18&amp\;day=1'>Download this event for Outlook or iCal for
  2024-06-18</a><br /><strong>LocationVia ZOOM Direct to Member (DTM)</stro
 ng></p>\n<p><a href='https://www.aaronline.com/calendar/view-event/?id=193
 0' class='wf_file'>REGISTER HERE!</a></p>
END:VEVENT
BEGIN:VEVENT
UID:20240116T090000UTC-3626R9odFl@https://havasurealtors.com/
DTSTAMP:20260419T184739Z
CATEGORIES:Board of Directors
DTSTART;TZID=America/Phoenix:20240116T090000
DTEND;TZID=America/Phoenix:20240116T100000
RRULE:FREQ=MONTHLY;UNTIL=20241231T070000Z;INTERVAL=1;BYDAY=TU;BYSETPOS=3
SUMMARY:Board of Directors Meeting
URL:https://www.havasurealtors.com/full-calendar-calendar-menu/189-meetings
 -calendar-category/194-committee-meetings-calendar-cateogory/268-board-of-
 directors/4010-board-of-directors-meeting.html
END:VEVENT
BEGIN:VEVENT
UID:20240618T124500UTC-8123U0KFSm@https://havasurealtors.com/
DTSTAMP:20260419T184739Z
CATEGORIES:Credited Classes
DESCRIPTION:<h2><strong><span style='font-size: 12pt\;'>CRPM: Landlord Tena
 nt Relations: Maintenance &amp\; Repair (CE: 3 Legal Issues) (AAR ZOOM DTM
 )&nbsp\;</span></strong></h2>\n<h2><span style='font-size: 12pt\;'><strong
 >When:</strong> Tuesday\, June 18th\, 2024</span></h2>\n<p><strong>CE:</st
 rong> 3 Legal Issues</p>\n<p><strong>Cost:</strong> REALTOR® Member - $20 
 through 6/10 / $40 after | Non-REALTOR® Member - $40 through 6/10 | $60 af
 ter&nbsp\;</p>\n<p><strong>Registration closes by midnight\, 6/14</strong>
 </p>\n<p><em><strong>ONLY 50 SEATS AVAILABLE ...</strong></em><em><strong>
 &nbsp\;|&nbsp\;</strong></em><em>(Registration opens 30 days in advance)</
 em></p>\n<p><strong>Instructor:</strong> Denise Holliday\, Esq.&nbsp\;</p>
 \n<p><strong>Description:</strong>&nbsp\;This course will review residenti
 al property maintenance issues impacting residential rentals and distingui
 sh between landlord\, property manager and tenant responsibilities/obligat
 ions according to the Landlord Tenant Act and Lease Agreement.</p>\n<p>Des
 ignation Information</p>\n<p><strong>(Fulfills the ELECTIVE course for CRP
 M)</strong></p>\n<p><strong>CERTIFIED RESIDENTIAL PROPERTY MANAGER:</stron
 g>&nbsp\;Arizona REALTORS® certification program is dedicated to property 
 management and offers classes that you can use for your real estate licens
 e renewal. This program was designed to hone your knowledge and skills in 
 topics that relate to your day to day business as a property manager. The 
 curriculum was developed in concert with property management attorneys and
  longtime property management practitioners.&nbsp\;<strong>To learn more\,
  visit:</strong>&nbsp\;www.aaronline.com/increase-knowledge.</p>\n<p><em>*
 This certification program is not affiliated with or endorsed by the Natio
 nal Association of REALTORS®</em><br />LocationVia ZOOM Direct to Member (
 DTM)</p>\n<p><a href='https://www.aaronline.com/calendar/view-event/?id=18
 69' class='wf_file'>REGISTER HERE!!</a></p>
DTSTART;TZID=America/Phoenix:20240618T124500
DTEND;TZID=America/Phoenix:20240618T160000
SUMMARY:CRPM: Landlord Tenant Relations: Maintenance & Repair (CE: 3 Legal 
 Issues) (AAR ZOOM DTM)
URL:https://www.havasurealtors.com/full-calendar-calendar-menu/259-educatio
 n-classes/184-credited-classes-calendar-category/4407-crpm-landlord-tenant
 -relations-maintenance-repair-ce-3-legal-issues-aar-zoom-dtm.html
X-ALT-DESC;FMTTYPE=TEXT/HTML:<h2><strong><span style='font-size: 12pt\;'>CR
 PM: Landlord Tenant Relations: Maintenance &amp\; Repair (CE: 3 Legal Issu
 es) (AAR ZOOM DTM)&nbsp\;</span></strong></h2>\n<h2><span style='font-size
 : 12pt\;'><strong>When:</strong> Tuesday\, June 18th\, 2024</span></h2>\n<
 p><strong>CE:</strong> 3 Legal Issues</p>\n<p><strong>Cost:</strong> REALT
 OR® Member - $20 through 6/10 / $40 after | Non-REALTOR® Member - $40 thro
 ugh 6/10 | $60 after&nbsp\;</p>\n<p><strong>Registration closes by midnigh
 t\, 6/14</strong></p>\n<p><em><strong>ONLY 50 SEATS AVAILABLE ...</strong>
 </em><em><strong>&nbsp\;|&nbsp\;</strong></em><em>(Registration opens 30 d
 ays in advance)</em></p>\n<p><strong>Instructor:</strong> Denise Holliday\
 , Esq.&nbsp\;</p>\n<p><strong>Description:</strong>&nbsp\;This course will
  review residential property maintenance issues impacting residential rent
 als and distinguish between landlord\, property manager and tenant respons
 ibilities/obligations according to the Landlord Tenant Act and Lease Agree
 ment.</p>\n<p>Designation Information</p>\n<p><strong>(Fulfills the ELECTI
 VE course for CRPM)</strong></p>\n<p><strong>CERTIFIED RESIDENTIAL PROPERT
 Y MANAGER:</strong>&nbsp\;Arizona REALTORS® certification program is dedic
 ated to property management and offers classes that you can use for your r
 eal estate license renewal. This program was designed to hone your knowled
 ge and skills in topics that relate to your day to day business as a prope
 rty manager. The curriculum was developed in concert with property managem
 ent attorneys and longtime property management practitioners.&nbsp\;<stron
 g>To learn more\, visit:</strong>&nbsp\;www.aaronline.com/increase-knowled
 ge.</p>\n<p><em>*This certification program is not affiliated with or endo
 rsed by the National Association of REALTORS®</em><br />LocationVia ZOOM D
 irect to Member (DTM)</p>\n<p><a href='https://www.aaronline.com/calendar/
 view-event/?id=1869' class='wf_file'>REGISTER HERE!!</a></p>
END:VEVENT
END:VCALENDAR
