BEGIN:VCALENDAR
VERSION:2.0
PRODID:-//https://www.havasurealtors.com//NONSGML kigkonsult.se iCalcreator 2.41.71//
CALSCALE:GREGORIAN
METHOD:PUBLISH
UID:62643830-6139-4365-b933-366362626366
X-WR-CALNAME:JCal Pro Calendar
X-WR-CALDESC:Your online events calendar
X-WR-TIMEZONE:America/Phoenix
BEGIN:VTIMEZONE
TZID:America/Phoenix
BEGIN:STANDARD
TZNAME:MST
DTSTART:20240720T062707
TZOFFSETFROM:+0000
TZOFFSETTO:-0700
END:STANDARD
END:VTIMEZONE
BEGIN:VEVENT
UID:20240110T081500UTC-7030oIE8WB@https://havasurealtors.com/
DTSTAMP:20260421T062707Z
CATEGORIES:MLS Tour Meetings
DTSTART;TZID=America/Phoenix:20240807T081500
DTEND;TZID=America/Phoenix:20240807T091500
SUMMARY:MLS Tour - Central & South Area
URL:https://www.havasurealtors.com/full-calendar-calendar-menu/189-meetings
 -calendar-category/193-mls-tour-meetings-calendar-category/4270-mls-tour-n
 orth-central-area.html
END:VEVENT
BEGIN:VEVENT
UID:20240102T100000UTC-1539AuOsUl@https://havasurealtors.com/
DTSTAMP:20260421T062707Z
CATEGORIES:MLS Committee
DTSTART;TZID=America/Phoenix:20240807T100000
DTEND;TZID=America/Phoenix:20240807T110000
SUMMARY:MLS Committee Meeting
URL:https://www.havasurealtors.com/full-calendar-calendar-menu/189-meetings
 -calendar-category/194-committee-meetings-calendar-cateogory/271-multiple-
 listing-service/4243-mls-committee-meeting.html
END:VEVENT
END:VCALENDAR
