BEGIN:VCALENDAR
VERSION:2.0
PRODID:-//https://www.havasurealtors.com//NONSGML kigkonsult.se iCalcreator 2.41.71//
CALSCALE:GREGORIAN
METHOD:PUBLISH
UID:35326661-3963-4334-a263-343234323832
X-WR-CALNAME:JCal Pro Calendar
X-WR-CALDESC:Your online events calendar
X-WR-TIMEZONE:America/Phoenix
BEGIN:VTIMEZONE
TZID:America/Phoenix
BEGIN:STANDARD
TZNAME:MST
DTSTART:20240722T015746
TZOFFSETFROM:+0000
TZOFFSETTO:-0700
END:STANDARD
END:VTIMEZONE
BEGIN:VEVENT
UID:20240829T084500UTC-97513lZAXx@https://havasurealtors.com/
DTSTAMP:20260423T015746Z
CATEGORIES:Credited Classes
DESCRIPTION:<h2><span style='font-size: 12pt\;'>GRI: THE ANATOMY OF THE COD
 E OF ETHICS (CE: 3 Commissioner's Standards / 3 Legal Issues / Also meets 
 NAR COE requirement)</span></h2>\n<p class='label'>Date: Thursday\, August
  29th\, 2024 | Friday\, August 30th\, 2024 ( 2 DAY EVENT )</p>\n<p class='
 label'>Time: 08:45 am - 12:00 pm | 08:45 am - 12:00 pm</p>\n<p class='labe
 l'>Location: Via ZOOM Direct to Member (DTM)</p>\n<p class='label'>Type: G
 RI</p>\n<p>Cost: REALTOR® Member - $59 Early | $79 Late |&nbsp\;GRI Gradua
 te Discounted Fee - $30 | Non REALTOR® Member - $89 Early | $109 Late<stro
 ng><br /></strong></p>\n<p><strong>Early registration through 8/21 |&nbsp\
 ;</strong><strong>Registration closes 8/25 by midnight&nbsp\;&nbsp\;</stro
 ng><em><strong>ONLY 50 SEATS AVAILABLE</strong></em></p>\n<p>C.E. Credits:
  3 Hours Commissioner's Standards / 3 Hours Legal Issues / Also meets NAR 
 COE requirement</p>\n<p>Instructor: Liz Hill</p>\n<p>Description:&nbsp\;</
 p>\n<p>Let your professionalism shine. Learn how to apply the Code of Ethi
 cs in your day to day practice to enhance your professionalism.</p>\n<p>De
 signation Information</p>\n<p><strong><em>(This class fulfills row 8 for G
 RI)</em></strong></p>\n<p><strong>To learn more about the GRI Designation\
 , visit:&nbsp\;</strong><a href='https://azgri.com/'>https://azgri.com/</a
 ></p>\n<p><a href='https://www.aaronline.com/calendar/view-event/?id=1808'
  class='wf_file'>REGISTER HERE!!</a></p>\n<p>&nbsp\;</p>
DTSTART;TZID=America/Phoenix:20240829T084500
DTEND;TZID=America/Phoenix:20240830T120000
SUMMARY:GRI: THE ANATOMY OF THE CODE OF ETHICS (CE: 3 Commissioner's Standa
 rds / 3 Legal Issues / Also meets NAR COE) (AAR ZOOM DTM)
URL:https://www.havasurealtors.com/full-calendar-calendar-menu/259-educatio
 n-classes/184-credited-classes-calendar-category/4444-gri-the-anatomy-of-t
 he-code-of-ethics-ce-3-commissioners-standards-3-legal-issues-also-meets-n
 ar-coe-aar-zoom-dtm.html
X-ALT-DESC;FMTTYPE=TEXT/HTML:<h2><span style='font-size: 12pt\;'>GRI: THE A
 NATOMY OF THE CODE OF ETHICS (CE: 3 Commissioner's Standards / 3 Legal Iss
 ues / Also meets NAR COE requirement)</span></h2>\n<p class='label'>Date: 
 Thursday\, August 29th\, 2024 | Friday\, August 30th\, 2024 ( 2 DAY EVENT 
 )</p>\n<p class='label'>Time: 08:45 am - 12:00 pm | 08:45 am - 12:00 pm</p
 >\n<p class='label'>Location: Via ZOOM Direct to Member (DTM)</p>\n<p clas
 s='label'>Type: GRI</p>\n<p>Cost: REALTOR® Member - $59 Early | $79 Late |
 &nbsp\;GRI Graduate Discounted Fee - $30 | Non REALTOR® Member - $89 Early
  | $109 Late<strong><br /></strong></p>\n<p><strong>Early registration thr
 ough 8/21 |&nbsp\;</strong><strong>Registration closes 8/25 by midnight&nb
 sp\;&nbsp\;</strong><em><strong>ONLY 50 SEATS AVAILABLE</strong></em></p>
 \n<p>C.E. Credits: 3 Hours Commissioner's Standards / 3 Hours Legal Issues
  / Also meets NAR COE requirement</p>\n<p>Instructor: Liz Hill</p>\n<p>Des
 cription:&nbsp\;</p>\n<p>Let your professionalism shine. Learn how to appl
 y the Code of Ethics in your day to day practice to enhance your professio
 nalism.</p>\n<p>Designation Information</p>\n<p><strong><em>(This class fu
 lfills row 8 for GRI)</em></strong></p>\n<p><strong>To learn more about th
 e GRI Designation\, visit:&nbsp\;</strong><a href='https://azgri.com/'>htt
 ps://azgri.com/</a></p>\n<p><a href='https://www.aaronline.com/calendar/vi
 ew-event/?id=1808' class='wf_file'>REGISTER HERE!!</a></p>\n<p>&nbsp\;</p>
END:VEVENT
END:VCALENDAR
