BEGIN:VCALENDAR
VERSION:2.0
PRODID:-//https://www.havasurealtors.com//NONSGML kigkonsult.se iCalcreator 2.41.71//
CALSCALE:GREGORIAN
METHOD:PUBLISH
UID:31353231-6130-4435-b432-323435613338
X-WR-CALNAME:JCal Pro Calendar
X-WR-CALDESC:Your online events calendar
X-WR-TIMEZONE:America/Phoenix
BEGIN:VTIMEZONE
TZID:America/Phoenix
BEGIN:STANDARD
TZNAME:MST
DTSTART:20240724T121917
TZOFFSETFROM:+0000
TZOFFSETTO:-0700
END:STANDARD
END:VTIMEZONE
BEGIN:VEVENT
UID:20220614T080000UTC-2576pRsVN2@https://havasurealtors.com/
DTSTAMP:20260425T121917Z
CATEGORIES:Private Meetings
DTSTART;TZID=America/Phoenix:20250730T080000
DTEND;TZID=America/Phoenix:20250801T080000
SUMMARY:FBS Summit 2025
URL:https://www.havasurealtors.com/full-calendar-calendar-menu/189-meetings
 -calendar-category/191-private-meetings-calendar-category/4866-fbs-summit-
 2.html
END:VEVENT
END:VCALENDAR
