BEGIN:VCALENDAR
VERSION:2.0
PRODID:-//https://www.havasurealtors.com//NONSGML kigkonsult.se iCalcreator 2.41.71//
CALSCALE:GREGORIAN
METHOD:PUBLISH
UID:30316635-3562-4539-b664-333634383065
X-WR-CALNAME:JCal Pro Calendar
X-WR-CALDESC:Your online events calendar
X-WR-TIMEZONE:America/Phoenix
BEGIN:VTIMEZONE
TZID:America/Phoenix
BEGIN:STANDARD
TZNAME:MST
DTSTART:20240722T220456
TZOFFSETFROM:+0000
TZOFFSETTO:-0700
END:STANDARD
END:VTIMEZONE
BEGIN:VEVENT
UID:20251011T080000UTC-9016TuNiFu@https://havasurealtors.com/
DTSTAMP:20260423T220456Z
CATEGORIES:Rentals
DTSTART;TZID=America/Phoenix:20251011T000000
DTEND;TZID=America/Phoenix:20251011T235959
SUMMARY:Rental (McCoy)
URL:https://www.havasurealtors.com/full-calendar-calendar-menu/258-rentals/
 4886-rental-mccoy.html
END:VEVENT
END:VCALENDAR
