BEGIN:VCALENDAR
VERSION:2.0
PRODID:-//https://www.havasurealtors.com//NONSGML kigkonsult.se iCalcreator 2.41.71//
CALSCALE:GREGORIAN
METHOD:PUBLISH
UID:37386630-3662-4231-b766-316666303063
X-WR-CALNAME:JCal Pro Calendar
X-WR-CALDESC:Your online events calendar
X-WR-TIMEZONE:America/Phoenix
BEGIN:VTIMEZONE
TZID:America/Phoenix
BEGIN:STANDARD
TZNAME:MST
DTSTART:20240724T194014
TZOFFSETFROM:+0000
TZOFFSETTO:-0700
END:STANDARD
END:VTIMEZONE
BEGIN:VEVENT
UID:20240103T081500UTC-0390wp3Ovu@https://havasurealtors.com/
DTSTAMP:20260425T194014Z
CATEGORIES:Orientation Classes
DTSTART;TZID=America/Phoenix:20251105T081500
DTEND;TZID=America/Phoenix:20251105T120000
SUMMARY:New Member Orientation & Tour
URL:https://www.havasurealtors.com/full-calendar-calendar-menu/259-educatio
 n-classes/257-orientation-classes/4546-new-member-orientation-tour.html
END:VEVENT
BEGIN:VEVENT
UID:20250430T081500UTC-5613ijer8I@https://havasurealtors.com/
DTSTAMP:20260425T194014Z
CATEGORIES:MLS Tour Meetings
DTSTART;TZID=America/Phoenix:20250430T081500
DTEND;TZID=America/Phoenix:20250430T084500
RRULE:FREQ=WEEKLY;UNTIL=20251231T070000Z;INTERVAL=3;BYDAY=WE
SUMMARY:MLS Tour - South Area
URL:https://www.havasurealtors.com/full-calendar-calendar-menu/189-meetings
 -calendar-category/193-mls-tour-meetings-calendar-category/4830-mls-tour-s
 outh-area.html
END:VEVENT
BEGIN:VEVENT
UID:20240103T081500UTC-0390wp3Ovu@https://havasurealtors.com/
DTSTAMP:20260425T194014Z
CATEGORIES:Orientation Classes
DTSTART;TZID=America/Phoenix:20250108T081500
DTEND;TZID=America/Phoenix:20250108T120000
EXDATE;TZID=America/Phoenix:20251105T081500
RRULE:FREQ=MONTHLY;UNTIL=20251231T070000Z;INTERVAL=2;BYDAY=WE;BYSETPOS=1
SUMMARY:New Member Orientation & Tour
URL:https://www.havasurealtors.com/full-calendar-calendar-menu/259-educatio
 n-classes/257-orientation-classes/4510-new-member-orientation-tour.html
END:VEVENT
BEGIN:VEVENT
UID:20251105T100000UTC-9296nOKheR@https://havasurealtors.com/
DTSTAMP:20260425T194014Z
CATEGORIES:Non-credited Classes
DESCRIPTION:<h2>Stand Out in Real Estate: Master Your Value Proposition Wor
 kshop (QUARTERLY)</h2>\n<p class='label'>Date: Wednesday\, November 5th\, 
 2025</p>\n<p class='label'>Time: 10:00 am - 12:00 pm</p>\n<p class='label'
 >Location: Via ZOOM - Arizona REALTORS®</p>\n<p class='label'>Type: AAR Ev
 ents</p>\n<p class='col-md-12'>Cost:&nbsp\;<em>REALTOR® Member - $39 throu
 gh 10/28 | $59 after |&nbsp\;</em><em>Non REALTOR® - $59 through 10/28 | $
 79 after</em></p>\n<p><em>*Registration closes 11/1/25 by midnight</em></p
 >\n<p><strong>Cancellation Policy:</strong>&nbsp\;Cancellations received b
 efore&nbsp\;<strong sans-serif='' font-size:='' background-color:=''>Octob
 er 26\, 2025\,</strong>&nbsp\;will be refunded less a $10 admin fee. Cance
 llations received after&nbsp\;<strong sans-serif='' font-size:='' backgrou
 nd-color:=''>October 26</strong><strong sans-serif='' font-size:='' backgr
 ound-color:=''>\, 2025</strong>\, are not eligible for any refund.&nbsp\;<
 strong sans-serif='' font-size:='' background-color:=''>No-shows will forf
 eit all fees.</strong></p>\n<p class='col-md-12'>Description</p>\n<p><stro
 ng>Developing the Power of YOU... A Value Proposition Workshop</strong></p
 >\n<p>Enhance your ability to communicate your unique value to your networ
 k\, prospects\, and new clients.</p>\n<p><strong>In this Workshop\, you'll
  gain:</strong></p>\n<ul>\n<li>A comprehensive understanding of how to cra
 ft compelling value propositions</li>\n<li>Effective strategies to showcas
 e your distinct services to clients</li>\n<li>Essential tools to strengthe
 n your credibility and build client trust</li>\n<li>Mastery in presenting 
 your value as a buyer’s agent</li>\n</ul>\n<p><strong>Unlock greater clien
 t trust\, foster stronger relationships\, and achieve significant growth i
 n your business.</strong></p>\n<p><strong>REGISTER NOW</strong>&nbsp\;to r
 edefine your value in real estate and become the go-to expert clients rely
  on!</p>\n<p class='col-md-12'><a href='https://www.aaronline.com/calendar
 /view-event/?id=2090' class='wf_file'>REGISTER HERE! </a></p>
DTSTART;TZID=America/Phoenix:20251105T100000
DTEND;TZID=America/Phoenix:20251105T120000
SUMMARY:Stand Out in Real Estate: Master Your Value Proposition Workshop (Q
 UARTERLY) - AAR ZOOM
URL:https://www.havasurealtors.com/full-calendar-calendar-menu/259-educatio
 n-classes/185-non-credited-classes-calendar-category/4916-stand-out-in-rea
 l-estate-master-your-value-proposition-workshop-quarterly-aar-zoom.html
X-ALT-DESC;FMTTYPE=TEXT/HTML:<h2>Stand Out in Real Estate: Master Your Valu
 e Proposition Workshop (QUARTERLY)</h2>\n<p class='label'>Date: Wednesday\
 , November 5th\, 2025</p>\n<p class='label'>Time: 10:00 am - 12:00 pm</p>
 \n<p class='label'>Location: Via ZOOM - Arizona REALTORS®</p>\n<p class='l
 abel'>Type: AAR Events</p>\n<p class='col-md-12'>Cost:&nbsp\;<em>REALTOR® 
 Member - $39 through 10/28 | $59 after |&nbsp\;</em><em>Non REALTOR® - $59
  through 10/28 | $79 after</em></p>\n<p><em>*Registration closes 11/1/25 b
 y midnight</em></p>\n<p><strong>Cancellation Policy:</strong>&nbsp\;Cancel
 lations received before&nbsp\;<strong sans-serif='' font-size:='' backgrou
 nd-color:=''>October 26\, 2025\,</strong>&nbsp\;will be refunded less a $1
 0 admin fee. Cancellations received after&nbsp\;<strong sans-serif='' font
 -size:='' background-color:=''>October 26</strong><strong sans-serif='' fo
 nt-size:='' background-color:=''>\, 2025</strong>\, are not eligible for a
 ny refund.&nbsp\;<strong sans-serif='' font-size:='' background-color:=''>
 No-shows will forfeit all fees.</strong></p>\n<p class='col-md-12'>Descrip
 tion</p>\n<p><strong>Developing the Power of YOU... A Value Proposition Wo
 rkshop</strong></p>\n<p>Enhance your ability to communicate your unique va
 lue to your network\, prospects\, and new clients.</p>\n<p><strong>In this
  Workshop\, you'll gain:</strong></p>\n<ul>\n<li>A comprehensive understan
 ding of how to craft compelling value propositions</li>\n<li>Effective str
 ategies to showcase your distinct services to clients</li>\n<li>Essential 
 tools to strengthen your credibility and build client trust</li>\n<li>Mast
 ery in presenting your value as a buyer’s agent</li>\n</ul>\n<p><strong>Un
 lock greater client trust\, foster stronger relationships\, and achieve si
 gnificant growth in your business.</strong></p>\n<p><strong>REGISTER NOW</
 strong>&nbsp\;to redefine your value in real estate and become the go-to e
 xpert clients rely on!</p>\n<p class='col-md-12'><a href='https://www.aaro
 nline.com/calendar/view-event/?id=2090' class='wf_file'>REGISTER HERE! </a
 ></p>
END:VEVENT
BEGIN:VEVENT
UID:20251015T110000UTC-28229HGBtW@https://havasurealtors.com/
DTSTAMP:20260425T194014Z
CATEGORIES:Rentals
DTSTART;TZID=America/Phoenix:20251015T110000
DTEND;TZID=America/Phoenix:20251015T140000
RRULE:FREQ=WEEKLY;UNTIL=20251105T070000Z;INTERVAL=1;BYDAY=WE
SUMMARY:Rental ( Complete Legal)
URL:https://www.havasurealtors.com/full-calendar-calendar-menu/258-rentals/
 4923-rental-complete-legal.html
END:VEVENT
END:VCALENDAR
