BEGIN:VCALENDAR
VERSION:2.0
PRODID:-//https://www.havasurealtors.com//NONSGML kigkonsult.se iCalcreator 2.41.71//
CALSCALE:GREGORIAN
METHOD:PUBLISH
UID:63663234-3931-4238-b664-393833376139
X-WR-CALNAME:JCal Pro Calendar
X-WR-CALDESC:Your online events calendar
X-WR-TIMEZONE:America/Phoenix
BEGIN:VTIMEZONE
TZID:America/Phoenix
BEGIN:STANDARD
TZNAME:MST
DTSTART:20240718T153838
TZOFFSETFROM:+0000
TZOFFSETTO:-0700
END:STANDARD
END:VTIMEZONE
BEGIN:VEVENT
UID:20250430T081500UTC-5613ijer8I@https://havasurealtors.com/
DTSTAMP:20260419T153838Z
CATEGORIES:MLS Tour Meetings
DTSTART;TZID=America/Phoenix:20251126T081500
DTEND;TZID=America/Phoenix:20251126T084500
SUMMARY:NO MLS TOUR
URL:https://www.havasurealtors.com/full-calendar-calendar-menu/189-meetings
 -calendar-category/193-mls-tour-meetings-calendar-category/4840-mls-tour-s
 outh-area.html
END:VEVENT
END:VCALENDAR
