BEGIN:VCALENDAR
VERSION:2.0
PRODID:-//https://www.havasurealtors.com//NONSGML kigkonsult.se iCalcreator 2.41.71//
CALSCALE:GREGORIAN
METHOD:PUBLISH
UID:35663430-6136-4730-a565-646337363630
X-WR-CALNAME:JCal Pro Calendar
X-WR-CALDESC:Your online events calendar
X-WR-TIMEZONE:America/Phoenix
BEGIN:VTIMEZONE
TZID:America/Phoenix
BEGIN:STANDARD
TZNAME:MST
DTSTART:20240722T170822
TZOFFSETFROM:+0000
TZOFFSETTO:-0700
END:STANDARD
END:VTIMEZONE
BEGIN:VEVENT
UID:20250401T080000UTC-8162ue42DW@https://havasurealtors.com/
DTSTAMP:20260423T170822Z
CATEGORIES:Professional & Business Development
DESCRIPTION:<p>Denver\, CO</p>
DTSTART;TZID=America/Phoenix:20250401T080000
DTEND;TZID=America/Phoenix:20250404T090000
SUMMARY:NAR - A.E. Institute
URL:https://www.havasurealtors.com/full-calendar-calendar-menu/189-meetings
 -calendar-category/194-committee-meetings-calendar-cateogory/272-professio
 nal-business-development/4725-nar-a-e-institute.html
X-ALT-DESC;FMTTYPE=TEXT/HTML:<p>Denver\, CO</p>
END:VEVENT
BEGIN:VEVENT
UID:20250107T100000UTC-2544HV2181@https://havasurealtors.com/
DTSTAMP:20260423T170822Z
CATEGORIES:MLS Committee
DTSTART;TZID=America/Phoenix:20250107T100000
DTEND;TZID=America/Phoenix:20250107T110000
RRULE:FREQ=MONTHLY;COUNT=12;INTERVAL=1;BYDAY=TU;BYSETPOS=1
SUMMARY:MLS Committee Meeting
URL:https://www.havasurealtors.com/full-calendar-calendar-menu/189-meetings
 -calendar-category/194-committee-meetings-calendar-cateogory/271-multiple-
 listing-service/4584-mls-committee-meeting.html
END:VEVENT
BEGIN:VEVENT
UID:20250108T081500UTC-2430m0vCvc@https://havasurealtors.com/
DTSTAMP:20260423T170822Z
CATEGORIES:MLS Tour Meetings
DTSTART;TZID=America/Phoenix:20250108T081500
DTEND;TZID=America/Phoenix:20250108T084500
RRULE:FREQ=WEEKLY;UNTIL=20250409T070000Z;INTERVAL=2;BYDAY=WE
SUMMARY:MLS Tour - North & Central Area
URL:https://www.havasurealtors.com/full-calendar-calendar-menu/189-meetings
 -calendar-category/193-mls-tour-meetings-calendar-category/4615-mls-tour-n
 orth-central-area.html
END:VEVENT
BEGIN:VEVENT
UID:20250109T090000UTC-4409cgXaVE@https://havasurealtors.com/
DTSTAMP:20260423T170822Z
CATEGORIES:Non-credited Classes
DTSTART;TZID=America/Phoenix:20250403T090000
DTEND;TZID=America/Phoenix:20250403T110000
SUMMARY:Flex MLS Training (New Member Requirement)
URL:https://www.havasurealtors.com/full-calendar-calendar-menu/259-educatio
 n-classes/185-non-credited-classes-calendar-category/4570-flex-mls-trainin
 g-new-member-requirement.html
END:VEVENT
BEGIN:VEVENT
UID:20250213T173000UTC-2607fUaTiN@https://havasurealtors.com/
DTSTAMP:20260423T170822Z
CATEGORIES:REALTOR Olympics
DESCRIPTION:<p>Iron Wolf Golf &amp\; Country Club&nbsp\;</p>
DTSTART;TZID=America/Phoenix:20250405T000000
DTEND;TZID=America/Phoenix:20250405T235959
SUMMARY:Golf Tournament - Lake Havasu / La Paz Co. Community Olympics
URL:https://www.havasurealtors.com/full-calendar-calendar-menu/189-meetings
 -calendar-category/194-committee-meetings-calendar-cateogory/273-realtor-o
 lympics/4754-golf-tournament-lake-havasu-la-paz-co-community-olympics.html
X-ALT-DESC;FMTTYPE=TEXT/HTML:<p>Iron Wolf Golf &amp\; Country Club&nbsp\;</
 p>
END:VEVENT
BEGIN:VEVENT
UID:20250405T160000UTC-6342bvRiw2@https://havasurealtors.com/
DTSTAMP:20260423T170822Z
CATEGORIES:Rentals
DTSTART;TZID=America/Phoenix:20250405T000000
DTEND;TZID=America/Phoenix:20250405T235959
SUMMARY:Rental (Chamber Foundation)
URL:https://www.havasurealtors.com/full-calendar-calendar-menu/258-rentals/
 4758-rental-chamber-foundation.html
END:VEVENT
END:VCALENDAR
