BEGIN:VCALENDAR
VERSION:2.0
PRODID:-//https://www.havasurealtors.com//NONSGML kigkonsult.se iCalcreator 2.41.71//
CALSCALE:GREGORIAN
METHOD:PUBLISH
UID:32613839-3932-4863-b034-346530653539
X-WR-CALNAME:JCal Pro Calendar
X-WR-CALDESC:Your online events calendar
X-WR-TIMEZONE:America/Phoenix
BEGIN:VTIMEZONE
TZID:America/Phoenix
BEGIN:STANDARD
TZNAME:MST
DTSTART:20240720T025501
TZOFFSETFROM:+0000
TZOFFSETTO:-0700
END:STANDARD
END:VTIMEZONE
BEGIN:VEVENT
UID:20250531T080000UTC-9411c2RH25@https://havasurealtors.com/
DTSTAMP:20260421T025501Z
CATEGORIES:Professional & Business Development
DESCRIPTION:<p>Washington\, DC</p>
DTSTART;TZID=America/Phoenix:20250531T080000
DTEND;TZID=America/Phoenix:20250605T090000
SUMMARY:NAR Midyear Conference
URL:https://www.havasurealtors.com/full-calendar-calendar-menu/189-meetings
 -calendar-category/194-committee-meetings-calendar-cateogory/272-professio
 nal-business-development/4726-nar-midyear-conference.html
X-ALT-DESC;FMTTYPE=TEXT/HTML:<p>Washington\, DC</p>
END:VEVENT
BEGIN:VEVENT
UID:20250423T081500UTC-6851dAU3We@https://havasurealtors.com/
DTSTAMP:20260421T025501Z
CATEGORIES:MLS Tour Meetings
DTSTART;TZID=America/Phoenix:20250423T081500
DTEND;TZID=America/Phoenix:20250423T084500
RRULE:FREQ=WEEKLY;UNTIL=20251231T070000Z;INTERVAL=3;BYDAY=WE
SUMMARY:MLS Tour - Central Area
URL:https://www.havasurealtors.com/full-calendar-calendar-menu/189-meetings
 -calendar-category/193-mls-tour-meetings-calendar-category/4805-mls-tour-c
 entral-area.html
END:VEVENT
BEGIN:VEVENT
UID:20250109T090000UTC-4409cgXaVE@https://havasurealtors.com/
DTSTAMP:20260421T025501Z
CATEGORIES:Non-credited Classes
DTSTART;TZID=America/Phoenix:20250605T090000
DTEND;TZID=America/Phoenix:20250605T110000
SUMMARY:Flex MLS Training (New Member Requirement)(ZOOM)
URL:https://www.havasurealtors.com/full-calendar-calendar-menu/259-educatio
 n-classes/185-non-credited-classes-calendar-category/4464-flex-mls-trainin
 g-new-member-requirement.html
END:VEVENT
END:VCALENDAR
