BEGIN:VCALENDAR
VERSION:2.0
PRODID:-//https://www.havasurealtors.com//NONSGML kigkonsult.se iCalcreator 2.41.71//
CALSCALE:GREGORIAN
METHOD:PUBLISH
UID:34353935-6137-4639-b837-353964313239
X-WR-CALNAME:JCal Pro Calendar
X-WR-CALDESC:Your online events calendar
X-WR-TIMEZONE:America/Phoenix
BEGIN:VTIMEZONE
TZID:America/Phoenix
BEGIN:STANDARD
TZNAME:MST
DTSTART:20240723T022207
TZOFFSETFROM:+0000
TZOFFSETTO:-0700
END:STANDARD
END:VTIMEZONE
BEGIN:VEVENT
UID:20260107T081500UTC-0584WaCREV@https://havasurealtors.com/
DTSTAMP:20260424T022207Z
CATEGORIES:MLS Tour Meetings
DTSTART;TZID=America/Phoenix:20260701T083000
DTEND;TZID=America/Phoenix:20260701T083000
SUMMARY:Wednesday Market Mixer - North
URL:https://www.havasurealtors.com/full-calendar-calendar-menu/189-meetings
 -calendar-category/193-mls-tour-meetings-calendar-category/4960-mls-tour-s
 outh-area.html
END:VEVENT
BEGIN:VEVENT
UID:20260703T080000UTC-66034krBUl@https://havasurealtors.com/
DTSTAMP:20260424T022207Z
CATEGORIES:Holidays
DTSTART;TZID=America/Phoenix:20260703T080000
DTEND;TZID=America/Phoenix:20260703T090000
SUMMARY:Office Closed - Independence Day Holiday
URL:https://www.havasurealtors.com/full-calendar-calendar-menu/196-holidays
 -calendar-category/5364-office-closed-independence-day-holiday.html
END:VEVENT
END:VCALENDAR
