BEGIN:VCALENDAR
VERSION:2.0
PRODID:-//https://www.havasurealtors.com//NONSGML kigkonsult.se iCalcreator 2.41.71//
CALSCALE:GREGORIAN
METHOD:PUBLISH
UID:38613839-3234-4235-b966-386262343865
X-WR-CALNAME:JCal Pro Calendar
X-WR-CALDESC:Your online events calendar
X-WR-TIMEZONE:America/Phoenix
BEGIN:VTIMEZONE
TZID:America/Phoenix
BEGIN:STANDARD
TZNAME:MST
DTSTART:20240724T215855
TZOFFSETFROM:+0000
TZOFFSETTO:-0700
END:STANDARD
END:VTIMEZONE
BEGIN:VEVENT
UID:20200331T180000MST-8286peU25k@http://lhsuiws.rapams.com/
DTSTAMP:20260425T215855Z
CATEGORIES:Events
DTSTART;TZID=America/Phoenix:20200331T180000
DTEND;TZID=America/Phoenix:20200331T230000
SUMMARY:REALTOR® Olympics | BINGO
URL:https://www.havasurealtors.com/monthly-calendar-calendar-menu/187-publi
 c-events-calendar-category/2021-realtor-olympics-bingo.html
END:VEVENT
END:VCALENDAR
