BEGIN:VCALENDAR
VERSION:2.0
PRODID:-//https://www.havasurealtors.com//NONSGML kigkonsult.se iCalcreator 2.41.71//
CALSCALE:GREGORIAN
METHOD:PUBLISH
UID:33303035-3631-4266-b262-343436623061
X-WR-CALNAME:JCal Pro Calendar
X-WR-CALDESC:Your online events calendar
X-WR-TIMEZONE:America/Phoenix
BEGIN:VTIMEZONE
TZID:America/Phoenix
BEGIN:STANDARD
TZNAME:MST
DTSTART:20240719T012744
TZOFFSETFROM:+0000
TZOFFSETTO:-0700
END:STANDARD
END:VTIMEZONE
BEGIN:VEVENT
UID:20211224T120000MST-5870NvvKxc@https://lhsuiws.rapams.com/
DTSTAMP:20260420T012744Z
CATEGORIES:Holidays
DTSTART;TZID=America/Phoenix:20211223T120000
DTEND;TZID=America/Phoenix:20211223T170000
SUMMARY:Association Office Closed - Christmas Observed
URL:https://www.havasurealtors.com/monthly-calendar-calendar-menu/196-holid
 ays-calendar-category/2356-association-office-closed-christmas-eve.html
END:VEVENT
END:VCALENDAR
