BEGIN:VCALENDAR
VERSION:2.0
PRODID:-//https://www.havasurealtors.com//NONSGML kigkonsult.se iCalcreator 2.41.71//
CALSCALE:GREGORIAN
METHOD:PUBLISH
UID:31323732-6631-4563-b531-366539393661
X-WR-CALNAME:JCal Pro Calendar
X-WR-CALDESC:Your online events calendar
X-WR-TIMEZONE:America/Phoenix
BEGIN:VTIMEZONE
TZID:America/Phoenix
BEGIN:STANDARD
TZNAME:MST
DTSTART:20240718T175055
TZOFFSETFROM:+0000
TZOFFSETTO:-0700
END:STANDARD
END:VTIMEZONE
BEGIN:VEVENT
UID:20250109T090000UTC-4409cgXaVE@https://havasurealtors.com/
DTSTAMP:20260419T175055Z
CATEGORIES:Non-credited Classes
DTSTART;TZID=America/Phoenix:20250904T090000
DTEND;TZID=America/Phoenix:20250904T110000
SUMMARY:Flex MLS Training (New Member Requirement)(ZOOM)
URL:https://www.havasurealtors.com/monthly-calendar-calendar-menu/259-educa
 tion-classes/185-non-credited-classes-calendar-category/4467-flex-mls-trai
 ning-new-member-requirement.html
END:VEVENT
END:VCALENDAR
