BEGIN:VCALENDAR
VERSION:2.0
PRODID:-//https://www.havasurealtors.com//NONSGML kigkonsult.se iCalcreator 2.41.71//
CALSCALE:GREGORIAN
METHOD:PUBLISH
UID:65616466-3235-4262-b066-363430646338
X-WR-CALNAME:JCal Pro Calendar
X-WR-CALDESC:Your online events calendar
X-WR-TIMEZONE:America/Phoenix
BEGIN:VTIMEZONE
TZID:America/Phoenix
BEGIN:STANDARD
TZNAME:MST
DTSTART:20240722T184150
TZOFFSETFROM:+0000
TZOFFSETTO:-0700
END:STANDARD
END:VTIMEZONE
BEGIN:VEVENT
UID:20200806T090000MST-9279708cmL@https://lhsuiws.rapams.com/
DTSTAMP:20260423T184150Z
CATEGORIES:Orientation Classes
DESCRIPTION:<p><span style='font-size: 12pt\;'>March's Class will be offere
 d Live at the LHAR Convention Center. </span></p>
DTSTART;TZID=America/Phoenix:20210311T090000
DTEND;TZID=America/Phoenix:20210311T120000
SUMMARY:FlexMLS Training for New Members 2021
URL:https://www.havasurealtors.com/monthly-calendar-calendar-menu/259-educa
 tion-classes/257-orientation-classes/2337-flexmls-training-for-new-members
 -2.html
X-ALT-DESC;FMTTYPE=TEXT/HTML:<p><span style='font-size: 12pt\;'>March's Cla
 ss will be offered Live at the LHAR Convention Center. </span></p>
END:VEVENT
END:VCALENDAR
