BEGIN:VCALENDAR
VERSION:2.0
PRODID:-//https://www.havasurealtors.com//NONSGML kigkonsult.se iCalcreator 2.41.71//
CALSCALE:GREGORIAN
METHOD:PUBLISH
UID:36396237-6139-4865-a464-373363356136
X-WR-CALNAME:JCal Pro Calendar
X-WR-CALDESC:Your online events calendar
X-WR-TIMEZONE:America/Phoenix
BEGIN:VTIMEZONE
TZID:America/Phoenix
BEGIN:STANDARD
TZNAME:MST
DTSTART:20240721T163728
TZOFFSETFROM:+0000
TZOFFSETTO:-0700
END:STANDARD
END:VTIMEZONE
BEGIN:VEVENT
UID:20240110T080000UTC-9432waP1gc@https://havasurealtors.com/
DTSTAMP:20260422T163728Z
CATEGORIES:Committee Meetings
DTSTART;TZID=America/Phoenix:20240108T090000
DTEND;TZID=America/Phoenix:20240108T100000
SUMMARY:Executive Committee Meeting
URL:https://www.havasurealtors.com/monthly-calendar-calendar-menu/189-meeti
 ngs-calendar-category/194-committee-meetings-calendar-cateogory/3997-execu
 tive-committee-meeting.html
END:VEVENT
BEGIN:VEVENT
UID:20220126T083000UTC-3275mdTURU@https://havasurealtors.com/
DTSTAMP:20260422T163728Z
CATEGORIES:REALTOR Olympics
DTSTART;TZID=America/Phoenix:20240108T103000
DTEND;TZID=America/Phoenix:20240108T113000
SUMMARY:REALTOR® Olympics Chair Meeting
URL:https://www.havasurealtors.com/monthly-calendar-calendar-menu/189-meeti
 ngs-calendar-category/194-committee-meetings-calendar-cateogory/273-realto
 r-olympics/4230-realtor-olympics-chair-meeting-2.html
END:VEVENT
BEGIN:VEVENT
UID:20231002T160000UTC-2862bOXnm2@https://havasurealtors.com/
DTSTAMP:20260422T163728Z
CATEGORIES:Rentals
DTSTART;TZID=America/Phoenix:20240108T160000
DTEND;TZID=America/Phoenix:20240108T180000
SUMMARY:Rental (Havasu Balloon Festival)
URL:https://www.havasurealtors.com/monthly-calendar-calendar-menu/258-renta
 ls/3832-rental-havasu-b.html
END:VEVENT
END:VCALENDAR
