BEGIN:VCALENDAR
VERSION:2.0
PRODID:-//https://www.havasurealtors.com//NONSGML kigkonsult.se iCalcreator 2.41.71//
CALSCALE:GREGORIAN
METHOD:PUBLISH
UID:63663431-3631-4537-b730-343861666333
X-WR-CALNAME:JCal Pro Calendar
X-WR-CALDESC:Your online events calendar
X-WR-TIMEZONE:America/Phoenix
BEGIN:VTIMEZONE
TZID:America/Phoenix
BEGIN:STANDARD
TZNAME:MST
DTSTART:20240720T142604
TZOFFSETFROM:+0000
TZOFFSETTO:-0700
END:STANDARD
END:VTIMEZONE
BEGIN:VEVENT
UID:20240103T201500UTC-0255VwHvGL@https://havasurealtors.com/
DTSTAMP:20260421T142604Z
CATEGORIES:MLS Tour Meetings
DTSTART;TZID=America/Phoenix:20240103T081500
DTEND;TZID=America/Phoenix:20240103T084500
RRULE:FREQ=WEEKLY;UNTIL=20241231T070000Z;INTERVAL=2;BYDAY=WE
SUMMARY:MLS Tour - Central & South Area
URL:https://www.havasurealtors.com/monthly-calendar-calendar-menu/189-meeti
 ngs-calendar-category/193-mls-tour-meetings-calendar-category/4169-mls-tou
 r-central-south-area.html
END:VEVENT
BEGIN:VEVENT
UID:20240131T124500UTC-9705lvMkUB@https://havasurealtors.com/
DTSTAMP:20260421T142604Z
CATEGORIES:Credited Classes
DESCRIPTION:<p>Date: Wednesday\, January 31st\, 2024</p>\n<p>Time:12:45pm -
  4:00pm</p>\n<p>C.E. Credits: 3 Hours Agency</p>\n<p>Cost: REALTOR® MEMBER
  - $20 Early | $40 Late | NON-REALTOR® MEMBER - $40 Early | $60 Late</p>\n
 <p>Type: AAR Classes</p>\n<p>Instructor: Gary Nelson</p>\n<p>Description:&
 nbsp\;</p>\n<p><strong>Early registration runs thru 1/23 | Late registrati
 on after 1/23<br /></strong></p>\n<p><strong>Registration closes January 2
 7th by midnight</strong></p>\n<p>An in depth look of how to use your agenc
 y relationships and standardized forms to achieve Procuring Cause in your 
 transactions.</p>\n<p><em><strong>ONLY 50 SEATS AVAILABLE</strong></em></p
 >\n<p><a href='https://www.aaronline.com/calendar/view-event/?id=1851' cla
 ss='wf_file'>REGISTER HERE!!</a></p>
DTSTART;TZID=America/Phoenix:20240131T124500
DTEND;TZID=America/Phoenix:20240131T160000
SUMMARY:CE: PROCURING CAUSE: SO YOU WANT TO GET PAID... (CE: 3 Agency)(Zoom
  DTM)
URL:https://www.havasurealtors.com/monthly-calendar-calendar-menu/259-educa
 tion-classes/184-credited-classes-calendar-category/4168-ce-procuring-caus
 e-so-you-want-to-get-paid-ce-3-agency-zoom-dtm.html
X-ALT-DESC;FMTTYPE=TEXT/HTML:<p>Date: Wednesday\, January 31st\, 2024</p>\n
 <p>Time:12:45pm - 4:00pm</p>\n<p>C.E. Credits: 3 Hours Agency</p>\n<p>Cost
 : REALTOR® MEMBER - $20 Early | $40 Late | NON-REALTOR® MEMBER - $40 Early
  | $60 Late</p>\n<p>Type: AAR Classes</p>\n<p>Instructor: Gary Nelson</p>
 \n<p>Description:&nbsp\;</p>\n<p><strong>Early registration runs thru 1/23
  | Late registration after 1/23<br /></strong></p>\n<p><strong>Registratio
 n closes January 27th by midnight</strong></p>\n<p>An in depth look of how
  to use your agency relationships and standardized forms to achieve Procur
 ing Cause in your transactions.</p>\n<p><em><strong>ONLY 50 SEATS AVAILABL
 E</strong></em></p>\n<p><a href='https://www.aaronline.com/calendar/view-e
 vent/?id=1851' class='wf_file'>REGISTER HERE!!</a></p>
END:VEVENT
END:VCALENDAR
