BEGIN:VCALENDAR
VERSION:2.0
PRODID:-//https://www.havasurealtors.com//NONSGML kigkonsult.se iCalcreator 2.41.71//
CALSCALE:GREGORIAN
METHOD:PUBLISH
UID:62396335-3334-4433-b730-306464343461
X-WR-CALNAME:JCal Pro Calendar
X-WR-CALDESC:Your online events calendar
X-WR-TIMEZONE:America/Phoenix
BEGIN:VTIMEZONE
TZID:America/Phoenix
BEGIN:STANDARD
TZNAME:MST
DTSTART:20240722T104711
TZOFFSETFROM:+0000
TZOFFSETTO:-0700
END:STANDARD
END:VTIMEZONE
BEGIN:VEVENT
UID:20250412T110000UTC-7837G4Jwl2@https://havasurealtors.com/
DTSTAMP:20260423T104711Z
CATEGORIES:Rentals
DTSTART;TZID=America/Phoenix:20250411T160000
DTEND;TZID=America/Phoenix:20250412T235900
SUMMARY:Rental (Woodward)
URL:https://www.havasurealtors.com/monthly-calendar-calendar-menu/258-renta
 ls/4778-rental-woodward.html
END:VEVENT
END:VCALENDAR
